BEGIN:VCALENDAR
VERSION:2.0
PRODID:-//Johnny Appleseed Metropolitan Park District - ECPv6.15.18//NONSGML v1.0//EN
CALSCALE:GREGORIAN
METHOD:PUBLISH
X-ORIGINAL-URL:https://jampd.com
X-WR-CALDESC:Events for Johnny Appleseed Metropolitan Park District
REFRESH-INTERVAL;VALUE=DURATION:PT1H
X-Robots-Tag:noindex
X-PUBLISHED-TTL:PT1H
BEGIN:VTIMEZONE
TZID:America/New_York
BEGIN:DAYLIGHT
TZOFFSETFROM:-0500
TZOFFSETTO:-0400
TZNAME:EDT
DTSTART:20250309T070000
END:DAYLIGHT
BEGIN:STANDARD
TZOFFSETFROM:-0400
TZOFFSETTO:-0500
TZNAME:EST
DTSTART:20251102T060000
END:STANDARD
BEGIN:DAYLIGHT
TZOFFSETFROM:-0500
TZOFFSETTO:-0400
TZNAME:EDT
DTSTART:20260308T070000
END:DAYLIGHT
BEGIN:STANDARD
TZOFFSETFROM:-0400
TZOFFSETTO:-0500
TZNAME:EST
DTSTART:20261101T060000
END:STANDARD
BEGIN:DAYLIGHT
TZOFFSETFROM:-0500
TZOFFSETTO:-0400
TZNAME:EDT
DTSTART:20270314T070000
END:DAYLIGHT
BEGIN:STANDARD
TZOFFSETFROM:-0400
TZOFFSETTO:-0500
TZNAME:EST
DTSTART:20271107T060000
END:STANDARD
END:VTIMEZONE
BEGIN:VEVENT
DTSTART;TZID=America/New_York:20260318T090000
DTEND;TZID=America/New_York:20260318T113000
DTSTAMP:20260421T192700
CREATED:20260221T130056Z
LAST-MODIFIED:20260226T175504Z
UID:10000601-1773824400-1773833400@jampd.com
SUMMARY:Homeschool Field Trip: Maple Syruping
DESCRIPTION:Join us for our interdisciplinary nature-based program that explores the history of maple syrup production in Ohio from tree to table!  Children ages 8 to 11 and their families will learn from Nature Education staff and curriculum-based activities that maple syrup production has changed over time and across cultures as materials and techniques evolved.  Registration is required to participate in this program.  Please register all family members who will be attending the program.  Register by March 11. \n 
URL:https://jampd.com/event/homeschool-field-trip-maple-syruping/
LOCATION:McElroy Environmental Education Center\, 2355 Ada Rd\, Lima\, OH\, 45801
END:VEVENT
BEGIN:VEVENT
DTSTART;TZID=America/New_York:20260318T130000
DTEND;TZID=America/New_York:20260318T153000
DTSTAMP:20260421T192700
CREATED:20260221T130018Z
LAST-MODIFIED:20260226T175350Z
UID:10000602-1773838800-1773847800@jampd.com
SUMMARY:Homeschool Field Trip: Maple Syruping
DESCRIPTION:Join us for our interdisciplinary nature-based program that explores the history of maple syrup production in Ohio from tree to table!  Children ages 8 to 11 and their families will learn from Nature Education staff and curriculum-based activities that maple syrup production has changed over time and across cultures as materials and techniques evolved.  Registration is required to participate in this program.  Please register all family members who will be attending the program.  Register by March 11. \n 
URL:https://jampd.com/event/homeschool-field-trip-maple-syruping-2/
LOCATION:McLean Teddy Bear Park\, 2004 N. Dixie Hwy.\, Lima\, OH\, 45801\, United States
END:VEVENT
BEGIN:VEVENT
DTSTART;TZID=America/New_York:20260325T090000
DTEND;TZID=America/New_York:20260325T100000
DTSTAMP:20260421T192700
CREATED:20260221T130038Z
LAST-MODIFIED:20260220T175724Z
UID:10000593-1774429200-1774432800@jampd.com
SUMMARY:Weekly Walks
DESCRIPTION:Enjoy the quiet spring mornings while we get in our steps! After a long winter it is time to enjoy the nice weather again. Join a Naturalist as we walk the trails of Herman Woodlands. Together we can achieve our fitness goals while also enjoying nature. All ages are welcome\, and we can set our own pace. Dress for the weather\, rain\, snow\, or shine! Register by March 24. \n 
URL:https://jampd.com/event/weekly-walks-14/
LOCATION:Hermon Woodlands Metro Park\, 485 N. Wapak Road\, Lima\, OH\, 45807
END:VEVENT
BEGIN:VEVENT
DTSTART;TZID=America/New_York:20260325T170000
DTEND;TZID=America/New_York:20260325T183000
DTSTAMP:20260421T192700
CREATED:20260223T133703Z
LAST-MODIFIED:20260223T133703Z
UID:10000603-1774458000-1774463400@jampd.com
SUMMARY:Duke's Birthday Party!
DESCRIPTION:Come out to explore the McElroy Environmental Education Center and celebrate one of the park’s most charismatic employees – Duke the sulcata tortoise! Duke is an education animal who has worked with many of the citizens of Allen County helping us teach people about reptiles. There will be tortoise trivia\, crafts\, and even cake! Duke will be roaming around to accept gentle pats on his shell and happy birthday wishes from his guests. This event is open to people of all ages and abilities. Register by March 23. \n 
URL:https://jampd.com/event/dukes-birthday-party/
LOCATION:McElroy Environmental Education Center\, 2355 Ada Rd\, Lima\, OH\, 45801
END:VEVENT
BEGIN:VEVENT
DTSTART;TZID=America/New_York:20260326T160000
DTEND;TZID=America/New_York:20260326T170000
DTSTAMP:20260421T192700
CREATED:20260223T133817Z
LAST-MODIFIED:20260223T133817Z
UID:10000604-1774540800-1774544400@jampd.com
SUMMARY:Feeding Day
DESCRIPTION:The Park District maintains several education animals in the McElroy Environmental Education Center\, using them throughout the year for nature presentations and programs. Join the Critter Care volunteers to watch (or help!) them clean and feed all our animals at 4 pm on the last Thursday of the month! Register by March 25.
URL:https://jampd.com/event/feeding-day-30/
LOCATION:McElroy Environmental Education Center\, 2355 Ada Rd\, Lima\, OH\, 45801
END:VEVENT
BEGIN:VEVENT
DTSTART;TZID=America/New_York:20260328T070000
DTEND;TZID=America/New_York:20260328T080000
DTSTAMP:20260421T192700
CREATED:20260223T134328Z
LAST-MODIFIED:20260223T134328Z
UID:10000605-1774681200-1774684800@jampd.com
SUMMARY:Sunrise Hike
DESCRIPTION:Did you know there are animals that are more active during dawn and dusk than any other parts of the day? During our quiet sunrise hike we could have the perfect opportunity to see some of these animals before they hide away for the day. Join us for a one-hour hike to watch the sunrise and keep an eye out for any early morning animals. Registration is required to participate in this program. Register by March 26. \n 
URL:https://jampd.com/event/sunrise-hike-4/
LOCATION:Motter Metro Park\, 10740 Columbus Grove-Bluffton Road\, Bluffton\, Ohio\, 45817
END:VEVENT
BEGIN:VEVENT
DTSTART;TZID=America/New_York:20260401T090000
DTEND;TZID=America/New_York:20260401T100000
DTSTAMP:20260421T192700
CREATED:20260223T134625Z
LAST-MODIFIED:20260223T134625Z
UID:10000606-1775034000-1775037600@jampd.com
SUMMARY:Weekly Walks
DESCRIPTION:Enjoy the quiet spring mornings while we get in our steps! After a long winter it is time to enjoy the nice weather again. Join a Naturalist as we walk the trails of Herman Woodlands. Together we can achieve our fitness goals while also enjoying nature. All ages are welcome\, and we can set our own pace. Dress for the weather\, rain\, snow\, or shine! Register by March 31. \n 
URL:https://jampd.com/event/weekly-walks-15/
LOCATION:Hermon Woodlands Metro Park\, 485 N. Wapak Road\, Lima\, OH\, 45807
END:VEVENT
BEGIN:VEVENT
DTSTART;TZID=America/New_York:20260401T180000
DTEND;TZID=America/New_York:20260401T190000
DTSTAMP:20260421T192700
CREATED:20260223T135309Z
LAST-MODIFIED:20260223T135309Z
UID:10000610-1775066400-1775070000@jampd.com
SUMMARY:Invertebrate Investigation
DESCRIPTION:Make no bones about it — spineless critters that creep and crawl are super cool! Join a Naturalist to discover how animals are classified and explore invertebrate individuals up close. Register by March 31. \n 
URL:https://jampd.com/event/invertebrate-investigation/
LOCATION:Lima Public Library\, 650 W Market St\, Lima\, OH\, 45801\, United States
END:VEVENT
BEGIN:VEVENT
DTSTART;TZID=America/New_York:20260402T100000
DTEND;TZID=America/New_York:20260402T110000
DTSTAMP:20260421T192700
CREATED:20260223T135439Z
LAST-MODIFIED:20260223T135439Z
UID:10000611-1775124000-1775127600@jampd.com
SUMMARY:Nature Pals: Meet Real Life Frog and Toad!
DESCRIPTION:The Frog and Toad series\, both written and illustrated by Arnold Lobel\, has captured the hearts of generations with its themes of friendship and patience. Children ages 3-5 along with an adult companion are invited to come read a story\, do crafts together\, and learn about the real animals that inspired these characters. Come dressed for a hike in the woods. Registration required by April 1. \n 
URL:https://jampd.com/event/nature-pals-meet-real-life-frog-and-toad/
LOCATION:McElroy Environmental Education Center\, 2355 Ada Rd\, Lima\, OH\, 45801
END:VEVENT
BEGIN:VEVENT
DTSTART;TZID=America/New_York:20260402T130000
DTEND;TZID=America/New_York:20260402T140000
DTSTAMP:20260421T192700
CREATED:20260223T140219Z
LAST-MODIFIED:20260223T140219Z
UID:10000612-1775134800-1775138400@jampd.com
SUMMARY:Nature Pals: Meet Real Life Frog and Toad!
DESCRIPTION:The Frog and Toad series\, both written and illustrated by Arnold Lobel\, has captured the hearts of generations with its themes of friendship and patience. Children ages 3-5 along with an adult companion are invited to come read a story\, do crafts together\, and learn about the real animals that inspired these characters. Come dressed for a hike in the woods. Registration required by April 1. \n 
URL:https://jampd.com/event/nature-pals-meet-real-life-frog-and-toad-2/
LOCATION:McElroy Environmental Education Center\, 2355 Ada Rd\, Lima\, OH\, 45801
END:VEVENT
BEGIN:VEVENT
DTSTART;TZID=America/New_York:20260402T200000
DTEND;TZID=America/New_York:20260402T210000
DTSTAMP:20260421T192700
CREATED:20260223T140956Z
LAST-MODIFIED:20260223T140956Z
UID:10000615-1775160000-1775163600@jampd.com
SUMMARY:Howl @ the Moon: Pink Moon
DESCRIPTION:Across time\, people all over the world have utilized the moon to track the seasons. Giving each full moon a special name was one way to honor nature’s signs and traditions. Experience the outdoors under the light of the full moon and learn about the names and folklore associated with March’s full moon. Meet at the Hickory Shelter. Registration is required to participate in this program. Register by April 1.
URL:https://jampd.com/event/howl-the-moon-pink-moon/
LOCATION:Kendrick Woods\, 971 N Defiance Trl\, Spencerville\, 45887\, United States
END:VEVENT
BEGIN:VEVENT
DTSTART;TZID=America/New_York:20260403T100000
DTEND;TZID=America/New_York:20260403T110000
DTSTAMP:20260421T192700
CREATED:20260223T140320Z
LAST-MODIFIED:20260223T140320Z
UID:10000613-1775210400-1775214000@jampd.com
SUMMARY:Nature Pals: Meet Real Life Frog and Toad!
DESCRIPTION:The Frog and Toad series\, both written and illustrated by Arnold Lobel\, has captured the hearts of generations with its themes of friendship and patience. Children ages 3-5 along with an adult companion are invited to come read a story\, do crafts together\, and learn about the real animals that inspired these characters. Come dressed for a hike in the woods. Registration required by April 1. \n 
URL:https://jampd.com/event/nature-pals-meet-real-life-frog-and-toad-3/
LOCATION:McElroy Environmental Education Center\, 2355 Ada Rd\, Lima\, OH\, 45801
END:VEVENT
BEGIN:VEVENT
DTSTART;TZID=America/New_York:20260403T130000
DTEND;TZID=America/New_York:20260403T140000
DTSTAMP:20260421T192700
CREATED:20260223T140504Z
LAST-MODIFIED:20260223T140504Z
UID:10000614-1775221200-1775224800@jampd.com
SUMMARY:Nature Pals: Meet Real Life Frog and Toad!
DESCRIPTION:The Frog and Toad series\, both written and illustrated by Arnold Lobel\, has captured the hearts of generations with its themes of friendship and patience. Children ages 3-5 along with an adult companion are invited to come read a story\, do crafts together\, and learn about the real animals that inspired these characters. Come dressed for a hike in the woods. Registration required by April 1. \n 
URL:https://jampd.com/event/nature-pals-meet-real-life-frog-and-toad-4/
LOCATION:McElroy Environmental Education Center\, 2355 Ada Rd\, Lima\, OH\, 45801
END:VEVENT
BEGIN:VEVENT
DTSTART;TZID=America/New_York:20260406T183000
DTEND;TZID=America/New_York:20260406T200000
DTSTAMP:20260421T192700
CREATED:20260223T141205Z
LAST-MODIFIED:20260223T141205Z
UID:10000616-1775500200-1775505600@jampd.com
SUMMARY:Woodcarving: Sun Face
DESCRIPTION:With help from the Lima Area Woodcarvers\, this is a project that can be enjoyed by all skill levels\, beginners included! Registration is limited to 10 participants\, ages 13 and up; participants under 18 must be accompanied by an adult. Register by April 5. \n 
URL:https://jampd.com/event/woodcarving-sun-face/
LOCATION:McElroy Environmental Education Center\, 2355 Ada Rd\, Lima\, OH\, 45801
END:VEVENT
BEGIN:VEVENT
DTSTART;TZID=America/New_York:20260407T100000
DTEND;TZID=America/New_York:20260407T113000
DTSTAMP:20260421T192700
CREATED:20260223T141434Z
LAST-MODIFIED:20260223T141434Z
UID:10000617-1775556000-1775561400@jampd.com
SUMMARY:Homeschool Hiking Club
DESCRIPTION:Come hit the trail with us and discover the wonders of nature! Homeschool Hiking Club invites families with children ages 6 – 10 on a monthly hike to connect with nature\, engage with their community\, and explore the forest ecosystem in each season. Dress for the weather and come out rain or shine! Meet at the Hornung Shelter. Register by April 6. \n 
URL:https://jampd.com/event/homeschool-hiking-club-4/
LOCATION:McLean Teddy Bear Park\, 2004 N. Dixie Hwy.\, Lima\, OH\, 45801\, United States
END:VEVENT
BEGIN:VEVENT
DTSTART;TZID=America/New_York:20260408T090000
DTEND;TZID=America/New_York:20260408T100000
DTSTAMP:20260421T192700
CREATED:20260223T134748Z
LAST-MODIFIED:20260223T134748Z
UID:10000607-1775638800-1775642400@jampd.com
SUMMARY:Weekly Walks
DESCRIPTION:Enjoy the quiet spring mornings while we get in our steps! After a long winter it is time to enjoy the nice weather again. Join a Naturalist as we walk the trails of Herman Woodlands. Together we can achieve our fitness goals while also enjoying nature. All ages are welcome\, and we can set our own pace. Dress for the weather\, rain\, snow\, or shine! Register by April 7.
URL:https://jampd.com/event/weekly-walks-16/
LOCATION:Hermon Woodlands Metro Park\, 485 N. Wapak Road\, Lima\, OH\, 45807
END:VEVENT
BEGIN:VEVENT
DTSTART;TZID=America/New_York:20260415T090000
DTEND;TZID=America/New_York:20260415T100000
DTSTAMP:20260421T192700
CREATED:20260223T135008Z
LAST-MODIFIED:20260223T135008Z
UID:10000608-1776243600-1776247200@jampd.com
SUMMARY:Weekly Walks
DESCRIPTION:Enjoy the quiet spring mornings while we get in our steps! After a long winter it is time to enjoy the nice weather again. Join a Naturalist as we walk the trails of Herman Woodlands. Together we can achieve our fitness goals while also enjoying nature. All ages are welcome\, and we can set our own pace. Dress for the weather\, rain\, snow\, or shine! Register by April 14.
URL:https://jampd.com/event/weekly-walks-17/
LOCATION:Hermon Woodlands Metro Park\, 485 N. Wapak Road\, Lima\, OH\, 45807
END:VEVENT
BEGIN:VEVENT
DTSTART;TZID=America/New_York:20260418T100000
DTEND;TZID=America/New_York:20260418T110000
DTSTAMP:20260421T192700
CREATED:20260223T141615Z
LAST-MODIFIED:20260223T141615Z
UID:10000618-1776506400-1776510000@jampd.com
SUMMARY:Kids Krafts
DESCRIPTION:Does your child love crafting? We love it too! Bring your crafter to our McElroy Environmental Education Center for one hour of creative nature craft time. General crafting supplies for the activity will be provided\, but if you have any special crafting items you like to use feel free to bring them along. Registration is limited to children ages 7 and up. Register by April 17. \n 
URL:https://jampd.com/event/kids-krafts-4/
LOCATION:McElroy Environmental Education Center\, 2355 Ada Rd\, Lima\, OH\, 45801
END:VEVENT
BEGIN:VEVENT
DTSTART;TZID=America/New_York:20260421T170000
DTEND;TZID=America/New_York:20260421T180000
DTSTAMP:20260421T192700
CREATED:20260223T141807Z
LAST-MODIFIED:20260223T141807Z
UID:10000619-1776790800-1776794400@jampd.com
SUMMARY:Kahoot Trivia Night
DESCRIPTION:Calling all bird nerds! Bring your smartphones and play some Kahoot! with us for some fun bird trivia. Each person will need their own device and will need to either access the Kahoot! website or have the app downloaded before the program. There will be multiple different sessions that include various bird topics during our one-hour of game play. Register by April 20. \n 
URL:https://jampd.com/event/kahoot-trivia-night/
LOCATION:McElroy Environmental Education Center\, 2355 Ada Rd\, Lima\, OH\, 45801
END:VEVENT
BEGIN:VEVENT
DTSTART;TZID=America/New_York:20260422T090000
DTEND;TZID=America/New_York:20260422T100000
DTSTAMP:20260421T192700
CREATED:20260223T135142Z
LAST-MODIFIED:20260223T135142Z
UID:10000609-1776848400-1776852000@jampd.com
SUMMARY:Weekly Walks
DESCRIPTION:Enjoy the quiet spring mornings while we get in our steps! After a long winter it is time to enjoy the nice weather again. Join a Naturalist as we walk the trails of Herman Woodlands. Together we can achieve our fitness goals while also enjoying nature. All ages are welcome\, and we can set our own pace. Dress for the weather\, rain\, snow\, or shine! Register by April 21.
URL:https://jampd.com/event/weekly-walks-18/
LOCATION:Hermon Woodlands Metro Park\, 485 N. Wapak Road\, Lima\, OH\, 45807
END:VEVENT
BEGIN:VEVENT
DTSTART;TZID=America/New_York:20260425T061500
DTEND;TZID=America/New_York:20260425T071500
DTSTAMP:20260421T192700
CREATED:20260223T142010Z
LAST-MODIFIED:20260223T142010Z
UID:10000620-1777097700-1777101300@jampd.com
SUMMARY:Sunrise Hike
DESCRIPTION:Did you know there are animals that are more active during dawn and dusk than any other parts of the day? During our quiet sunrise hike we could have the perfect opportunity to see some of these animals before they hide away for the day. Join us for a one-hour hike to watch the sunrise and keep an eye out for any early morning animals. Registration is required to participate in this program. Register by April 23. \n 
URL:https://jampd.com/event/sunrise-hike-5/
LOCATION:Haver Ridge Metro Park\, 8335 Bellefontaine Rd\, Harrod\, Ohio\, 45850
END:VEVENT
BEGIN:VEVENT
DTSTART;TZID=America/New_York:20260428T170000
DTEND;TZID=America/New_York:20260428T180000
DTSTAMP:20260421T192700
CREATED:20260223T142208Z
LAST-MODIFIED:20260223T142208Z
UID:10000621-1777395600-1777399200@jampd.com
SUMMARY:Nature 101: Bat Basics
DESCRIPTION:When you hear the word migration what type of animal do you first think of? Most of us would say birds\, but did you know some bats are also migrating back to Ohio in the spring? Join us at the McElroy Environmental Education Center for a one-hour presentation about the basics of bats and why some migrate while others hibernate. This presentation is intended for an adult audience\, but children are welcome to join as well. Register by May 19.
URL:https://jampd.com/event/nature-101-bat-basics/
LOCATION:McElroy Environmental Education Center\, 2355 Ada Rd\, Lima\, OH\, 45801
END:VEVENT
BEGIN:VEVENT
DTSTART;TZID=America/New_York:20260429T170000
DTEND;TZID=America/New_York:20260429T180000
DTSTAMP:20260421T192700
CREATED:20260223T144509Z
LAST-MODIFIED:20260223T144509Z
UID:10000622-1777482000-1777485600@jampd.com
SUMMARY:Beginning Archery
DESCRIPTION:Enjoy the great outdoors while learning a new skill! Participants ages 9 to adult are invited to join us on the range to explore this unique recreational sport. Certified archery instructors will lead participants in proper shooting technique while developing consistency and accuracy in their shot. All materials will be provided by the park district; participants must use the equipment provided. Wear closed-toe shoes and secure long hair. Please register for only one evening session. Register by April 28. \n 
URL:https://jampd.com/event/beginning-archery-18/
LOCATION:Allen County Farm Park\, 1582 Slabtown Road\, Lima\, Ohio\, 45801
END:VEVENT
BEGIN:VEVENT
DTSTART;TZID=America/New_York:20260429T183000
DTEND;TZID=America/New_York:20260429T193000
DTSTAMP:20260421T192700
CREATED:20260223T144607Z
LAST-MODIFIED:20260223T144607Z
UID:10000623-1777487400-1777491000@jampd.com
SUMMARY:Beginning Archery
DESCRIPTION:Enjoy the great outdoors while learning a new skill! Participants ages 9 to adult are invited to join us on the range to explore this unique recreational sport. Certified archery instructors will lead participants in proper shooting technique while developing consistency and accuracy in their shot. All materials will be provided by the park district; participants must use the equipment provided. Wear closed-toe shoes and secure long hair. Please register for only one evening session. Register by April 28. \n 
URL:https://jampd.com/event/beginning-archery-19/
LOCATION:Allen County Farm Park\, 1582 Slabtown Road\, Lima\, Ohio\, 45801
END:VEVENT
BEGIN:VEVENT
DTSTART;TZID=America/New_York:20260430T160000
DTEND;TZID=America/New_York:20260430T170000
DTSTAMP:20260421T192700
CREATED:20260223T144736Z
LAST-MODIFIED:20260223T144736Z
UID:10000624-1777564800-1777568400@jampd.com
SUMMARY:Feeding Day
DESCRIPTION:The Park District maintains several education animals in the McElroy Environmental Education Center\, using them throughout the year for nature presentations and programs. Join the Critter Care volunteers to watch (or help!) them clean and feed all our animals at 4 pm on the last Thursday of the month! Register by April 29.
URL:https://jampd.com/event/feeding-day-31/
LOCATION:McElroy Environmental Education Center\, 2355 Ada Rd\, Lima\, OH\, 45801
END:VEVENT
BEGIN:VEVENT
DTSTART;TZID=America/New_York:20260501T203000
DTEND;TZID=America/New_York:20260501T213000
DTSTAMP:20260421T192700
CREATED:20260223T144919Z
LAST-MODIFIED:20260223T144919Z
UID:10000625-1777667400-1777671000@jampd.com
SUMMARY:Howl @ the Moon: Flower Moon
DESCRIPTION:Across time\, people all over the world have utilized the moon to track the seasons. Giving each full moon a special name was one way to honor nature’s signs and traditions. Experience the outdoors under the light of the full moon and learn about the names and folklore associated with March’s full moon. Meet at the Hickory Shelter. Registration is required to participate in this program. Register by April 30.
URL:https://jampd.com/event/howl-the-moon-flower-moon/
LOCATION:Kendrick Woods\, 971 N Defiance Trl\, Spencerville\, 45887\, United States
END:VEVENT
BEGIN:VEVENT
DTSTART;TZID=America/New_York:20260502T110000
DTEND;TZID=America/New_York:20260502T120000
DTSTAMP:20260421T192700
CREATED:20260223T145104Z
LAST-MODIFIED:20260223T145104Z
UID:10000626-1777719600-1777723200@jampd.com
SUMMARY:Nature DIY: Best Nests
DESCRIPTION:Let’s give our feathered friends a helping hand this spring! We’ll learn how birds build and use nests during a brief presentation\, then craft handmade nesting balls for our backyard birds. All ages and skill levels are welcome! Register by May 1. \n 
URL:https://jampd.com/event/nature-diy-best-nests-3/
LOCATION:McElroy Environmental Education Center\, 2355 Ada Rd\, Lima\, OH\, 45801
END:VEVENT
BEGIN:VEVENT
DTSTART;TZID=America/New_York:20260503T140000
DTEND;TZID=America/New_York:20260503T150000
DTSTAMP:20260421T192700
CREATED:20260223T145608Z
LAST-MODIFIED:20260223T145608Z
UID:10000627-1777816800-1777820400@jampd.com
SUMMARY:An Ocean of Blue Wildflowers
DESCRIPTION:Imagine being in the forest surrounded by beautiful blue wildflowers – what it would look like\, smell like\, and feel like? You can find out! Experience this hidden gem of Allen County as we hike to find the wild hyacinth grove of Haver Ridge. Wear sturdy/mud-resistant footwear. Register by May 1. \n 
URL:https://jampd.com/event/an-ocean-of-blue-wildflowers/
LOCATION:Haver Ridge Metro Park\, 8335 Bellefontaine Rd\, Harrod\, Ohio\, 45850
END:VEVENT
BEGIN:VEVENT
DTSTART;TZID=America/New_York:20260504T183000
DTEND;TZID=America/New_York:20260504T200000
DTSTAMP:20260421T192700
CREATED:20260223T145759Z
LAST-MODIFIED:20260223T145759Z
UID:10000628-1777919400-1777924800@jampd.com
SUMMARY:Woodcarving: Miniature Christmas Tree
DESCRIPTION:With help from the Lima Area Woodcarvers\, this is a project that can be enjoyed by all skill levels\, beginners included! Registration is limited to 10 participants\, ages 13 and up; participants under 18 must be accompanied by an adult. Register by May 3. \n 
URL:https://jampd.com/event/woodcarving-miniature-christmas-tree/
LOCATION:McElroy Environmental Education Center\, 2355 Ada Rd\, Lima\, OH\, 45801
END:VEVENT
BEGIN:VEVENT
DTSTART;TZID=America/New_York:20260505T100000
DTEND;TZID=America/New_York:20260505T113000
DTSTAMP:20260421T192700
CREATED:20260223T150138Z
LAST-MODIFIED:20260223T150138Z
UID:10000629-1777975200-1777980600@jampd.com
SUMMARY:Homeschool Hiking Club
DESCRIPTION:Come hit the trail with us and discover the wonders of nature! Homeschool Hiking Club invites families with children ages 6 – 10 on a monthly hike to connect with nature\, engage with their community\, and explore the forest ecosystem in each season. Dress for the weather and come out rain or shine! Register by May 4. \n 
URL:https://jampd.com/event/homeschool-hiking-club-5/
LOCATION:McElroy Environmental Education Center\, 2355 Ada Rd\, Lima\, OH\, 45801
END:VEVENT
END:VCALENDAR