BEGIN:VCALENDAR
VERSION:2.0
PRODID:-//Johnny Appleseed Metropolitan Park District - ECPv6.15.18//NONSGML v1.0//EN
CALSCALE:GREGORIAN
METHOD:PUBLISH
X-ORIGINAL-URL:https://jampd.com
X-WR-CALDESC:Events for Johnny Appleseed Metropolitan Park District
REFRESH-INTERVAL;VALUE=DURATION:PT1H
X-Robots-Tag:noindex
X-PUBLISHED-TTL:PT1H
BEGIN:VTIMEZONE
TZID:America/New_York
BEGIN:DAYLIGHT
TZOFFSETFROM:-0500
TZOFFSETTO:-0400
TZNAME:EDT
DTSTART:20240310T070000
END:DAYLIGHT
BEGIN:STANDARD
TZOFFSETFROM:-0400
TZOFFSETTO:-0500
TZNAME:EST
DTSTART:20241103T060000
END:STANDARD
BEGIN:DAYLIGHT
TZOFFSETFROM:-0500
TZOFFSETTO:-0400
TZNAME:EDT
DTSTART:20250309T070000
END:DAYLIGHT
BEGIN:STANDARD
TZOFFSETFROM:-0400
TZOFFSETTO:-0500
TZNAME:EST
DTSTART:20251102T060000
END:STANDARD
BEGIN:DAYLIGHT
TZOFFSETFROM:-0500
TZOFFSETTO:-0400
TZNAME:EDT
DTSTART:20260308T070000
END:DAYLIGHT
BEGIN:STANDARD
TZOFFSETFROM:-0400
TZOFFSETTO:-0500
TZNAME:EST
DTSTART:20261101T060000
END:STANDARD
BEGIN:DAYLIGHT
TZOFFSETFROM:-0500
TZOFFSETTO:-0400
TZNAME:EDT
DTSTART:20270314T070000
END:DAYLIGHT
BEGIN:STANDARD
TZOFFSETFROM:-0400
TZOFFSETTO:-0500
TZNAME:EST
DTSTART:20271107T060000
END:STANDARD
END:VTIMEZONE
BEGIN:VEVENT
DTSTART;TZID=America/New_York:20251018T090000
DTEND;TZID=America/New_York:20251018T103000
DTSTAMP:20260421T102229
CREATED:20250813T120036Z
LAST-MODIFIED:20250813T015120Z
UID:10000527-1760778000-1760783400@jampd.com
SUMMARY:Walking Thru Autumn
DESCRIPTION:There is nothing quite like a brisk walk and a breath of fresh air on a crisp autumn morning! Please join us for our 19th annual Walking Thru Autumn hiking series. Each week 60-90 participants gather for a guided hike to take in the beauty of fall and explore some of the 30+ miles of Park District trails. Upon completing 6 out of the 8 offered hikes\, participants will receive a 2025 Metro Parks hiking stick medallion. Hand-made wood hiking sticks are available for $10. All hikes start at 9 am\, last approximately 1.5 hours and will be on easy to moderate terrain. \n  \nRegister online at www.jampd.com. September 6th marks the first hike; however\, participants may register as late as September 19th for the final 6 hikes. Registrations and walk-ins after this date are encouraged but will not be eligible for the hiking stick medallion. \nCome enjoy the beauty of fall in your Parks! \nWalking Thru Autumn 2025 \nSept. 6 Haver Ridge \nSept. 13 Motter Metro Park \nSept. 20 McLean Teddy Bear \nSept. 27 Cottonwood Trail \nOct. 4 Heritage Park \nOct. 11 Allen County Farm \nOct. 18 Kendrick Woods \nOct. 25 Hermon Woodlands \n  \n 
URL:https://jampd.com/event/walking-thru-autumn-47/
LOCATION:Kendrick Woods\, 971 N Defiance Trl\, Spencerville\, 45887\, United States
END:VEVENT
BEGIN:VEVENT
DTSTART;TZID=America/New_York:20251022T180000
DTEND;TZID=America/New_York:20251022T193000
DTSTAMP:20260421T102229
CREATED:20250813T120058Z
LAST-MODIFIED:20250812T230424Z
UID:10000512-1761156000-1761161400@jampd.com
SUMMARY:Tree-Torial
DESCRIPTION:Get “bark to basics” while learning more about the unique plants we call trees. In this program for adults and families you’ll “branch out” to explore a variety of topics and “grow” your knowledge of trees! Why do leaves change color in the fall? How old is the tree in your backyard? Where did that nut come from? Come out to explore these topics and more with a Naturalist from the Johnny Appleseed Metro Park District and be “stumped” no longer! Register by Oct. 21.
URL:https://jampd.com/event/tree-torial-2/
LOCATION:Lima Public Library\, 650 W Market St\, Lima\, OH\, 45801\, United States
END:VEVENT
BEGIN:VEVENT
DTSTART;TZID=America/New_York:20251025T090000
DTEND;TZID=America/New_York:20251025T103000
DTSTAMP:20260421T102229
CREATED:20250813T120028Z
LAST-MODIFIED:20250813T015239Z
UID:10000528-1761382800-1761388200@jampd.com
SUMMARY:Walking Thru Autumn
DESCRIPTION:There is nothing quite like a brisk walk and a breath of fresh air on a crisp autumn morning! Please join us for our 19th annual Walking Thru Autumn hiking series. Each week 60-90 participants gather for a guided hike to take in the beauty of fall and explore some of the 30+ miles of Park District trails. Upon completing 6 out of the 8 offered hikes\, participants will receive a 2025 Metro Parks hiking stick medallion. Hand-made wood hiking sticks are available for $10. All hikes start at 9 am\, last approximately 1.5 hours and will be on easy to moderate terrain. \n  \nRegister online at www.jampd.com. September 6th marks the first hike; however\, participants may register as late as September 19th for the final 6 hikes. Registrations and walk-ins after this date are encouraged but will not be eligible for the hiking stick medallion. \nCome enjoy the beauty of fall in your Parks! \nWalking Thru Autumn 2025 \nSept. 6 Haver Ridge \nSept. 13 Motter Metro Park \nSept. 20 McLean Teddy Bear \nSept. 27 Cottonwood Trail \nOct. 4 Heritage Park \nOct. 11 Allen County Farm \nOct. 18 Kendrick Woods \nOct. 25 Hermon Woodlands \n  \n 
URL:https://jampd.com/event/walking-thru-autumn-48/
LOCATION:Hermon Woodlands Metro Park\, 485 N. Wapak Road\, Lima\, OH\, 45807
END:VEVENT
BEGIN:VEVENT
DTSTART;TZID=America/New_York:20251030T173000
DTEND;TZID=America/New_York:20251030T183000
DTSTAMP:20260421T102229
CREATED:20250813T120011Z
LAST-MODIFIED:20250812T230734Z
UID:10000513-1761845400-1761849000@jampd.com
SUMMARY:Health Through Nature
DESCRIPTION:Although modern technologies are making our life easier\, more and more people are experiencing a sense and unease and anxiety. New scientific research concludes our disconnect from nature may be the cause. Scientists are finding that a connection to the natural world is crucial for our health and well-being. Join a Certified Natural Mindfulness Guide on Thursday evenings of each month this fall to reap the health benefits of being in nature. Register by Oct. 29. \n 
URL:https://jampd.com/event/health-through-nature-22/
LOCATION:McLean Teddy Bear Park\, 2004 N. Dixie Hwy.\, Lima\, OH\, 45801\, United States
END:VEVENT
BEGIN:VEVENT
DTSTART;TZID=America/New_York:20251103T190000
DTEND;TZID=America/New_York:20251103T210000
DTSTAMP:20260421T102229
CREATED:20250813T120046Z
LAST-MODIFIED:20250812T231024Z
UID:10000514-1762196400-1762203600@jampd.com
SUMMARY:Woodcarving: Christmas Ornament
DESCRIPTION:Get a head start on your Christmas list by crafting a handmade wooden ornament! With help from the Lima Area Woodcarvers\, this is a project that can be enjoyed by all skill levels\, beginners included. Registration is limited to 10 participants\, ages 13 and up; participants under 18 must be accompanied by an adult. Register by Nov. 2. \n 
URL:https://jampd.com/event/woodcarving-christmas-ornament/
LOCATION:McElroy Environmental Education Center\, 2355 Ada Rd\, Lima\, OH\, 45801
END:VEVENT
BEGIN:VEVENT
DTSTART;TZID=America/New_York:20251106T100000
DTEND;TZID=America/New_York:20251106T110000
DTSTAMP:20260421T102229
CREATED:20250813T120006Z
LAST-MODIFIED:20250812T231241Z
UID:10000515-1762423200-1762426800@jampd.com
SUMMARY:Nature Pals: Turkey Time
DESCRIPTION:Gobble\, gobble\, gobble! It’s that time of year! Children ages 3-5 and their adult companion are invited to learn about the wild turkeys that live in Ohio. Stories\, songs\, and crafts will all be a part of the fun. Dress appropriately for a hike in the woods. Register by Nov 5.
URL:https://jampd.com/event/nature-pals-turkey-time-5/
LOCATION:McElroy Environmental Education Center\, 2355 Ada Rd\, Lima\, OH\, 45801
END:VEVENT
BEGIN:VEVENT
DTSTART;TZID=America/New_York:20251106T130000
DTEND;TZID=America/New_York:20251106T140000
DTSTAMP:20260421T102229
CREATED:20250813T120048Z
LAST-MODIFIED:20250812T231352Z
UID:10000516-1762434000-1762437600@jampd.com
SUMMARY:Nature Pals: Turkey Time
DESCRIPTION:Gobble\, gobble\, gobble! It’s that time of year! Children ages 3-5 and their adult companion are invited to learn about the wild turkeys that live in Ohio. Stories\, songs\, and crafts will all be a part of the fun. Dress appropriately for a hike in the woods. Register by Nov 5.
URL:https://jampd.com/event/nature-pals-turkey-time-6/
LOCATION:McElroy Environmental Education Center\, 2355 Ada Rd\, Lima\, OH\, 45801
END:VEVENT
BEGIN:VEVENT
DTSTART;TZID=America/New_York:20251107T100000
DTEND;TZID=America/New_York:20251107T110000
DTSTAMP:20260421T102229
CREATED:20250813T120000Z
LAST-MODIFIED:20250812T231510Z
UID:10000517-1762509600-1762513200@jampd.com
SUMMARY:Nature Pals: Turkey Time
DESCRIPTION:Gobble\, gobble\, gobble! It’s that time of year! Children ages 3-5 and their adult companion are invited to learn about the wild turkeys that live in Ohio. Stories\, songs\, and crafts will all be a part of the fun. Dress appropriately for a hike in the woods. Register by Nov 5.
URL:https://jampd.com/event/nature-pals-turkey-time-7/
LOCATION:McElroy Environmental Education Center\, 2355 Ada Rd\, Lima\, OH\, 45801
END:VEVENT
BEGIN:VEVENT
DTSTART;TZID=America/New_York:20251107T130000
DTEND;TZID=America/New_York:20251107T140000
DTSTAMP:20260421T102229
CREATED:20250813T120016Z
LAST-MODIFIED:20250812T231636Z
UID:10000518-1762520400-1762524000@jampd.com
SUMMARY:Nature Pals: Turkey Time
DESCRIPTION:Gobble\, gobble\, gobble! It’s that time of year! Children ages 3-5 and their adult companion are invited to learn about the wild turkeys that live in Ohio. Stories\, songs\, and crafts will all be a part of the fun. Dress appropriately for a hike in the woods. Register by Nov 5.
URL:https://jampd.com/event/nature-pals-turkey-time-8/
LOCATION:McElroy Environmental Education Center\, 2355 Ada Rd\, Lima\, OH\, 45801
END:VEVENT
BEGIN:VEVENT
DTSTART;TZID=America/New_York:20251112T100000
DTEND;TZID=America/New_York:20251112T120000
DTSTAMP:20260421T102229
CREATED:20250813T120017Z
LAST-MODIFIED:20250813T024214Z
UID:10000534-1762941600-1762948800@jampd.com
SUMMARY:Nature Crafting: Natural Ornaments
DESCRIPTION:Use natural materials to help a naturalist make prairie-themed ornaments for the JAMPD tree featured at the Delphos Canal Commission’s Christmas Tree Festival. Our theme: Merry Prairie Christmas! Register by Nov. 10. \n 
URL:https://jampd.com/event/nature-crafting-natural-ornaments-2/
LOCATION:McElroy Environmental Education Center\, 2355 Ada Rd\, Lima\, OH\, 45801
END:VEVENT
BEGIN:VEVENT
DTSTART;TZID=America/New_York:20251122T110000
DTEND;TZID=America/New_York:20251122T130000
DTSTAMP:20260421T102229
CREATED:20250813T120025Z
LAST-MODIFIED:20250812T231934Z
UID:10000520-1763809200-1763816400@jampd.com
SUMMARY:Nature DIY: Ravishing Wreaths
DESCRIPTION:Spend a “crafter-noon” at the McElroy Environmental Education Center making wreaths from natural materials! Learn how to wrap a grapevine wreath and spend some time decorating it with objects found in nature. All ages and skill levels are welcome! Some pre-wrapped wreaths will be available for younger participants. Feel free to bring along any bobs and bits to help decorate your wreath and to share with others! Register by Nov. 21. \n 
URL:https://jampd.com/event/nature-diy-ravishing-wreaths-3/
LOCATION:OH
END:VEVENT
BEGIN:VEVENT
DTSTART;TZID=America/New_York:20251203T090000
DTEND;TZID=America/New_York:20251203T100000
DTSTAMP:20260421T102229
CREATED:20251121T220041Z
LAST-MODIFIED:20251117T124815Z
UID:10000544-1764752400-1764756000@jampd.com
SUMMARY:Weekly Walks
DESCRIPTION:Enjoy the quiet winter mornings while we get in our steps! Sometimes it is hard to find a reason to go outside in the winter months\, but together we can get rid of that cabin fever! Join a Naturalist as we walk the trails of Heritage Park. Together we can achieve our fitness goals while also enjoying nature. All ages are welcome\, and we can set our own pace. Dress for the weather—rain\, snow\, or shine! Meet at the Veterans Shelter. Register by Dec. 2. \n 
URL:https://jampd.com/event/weekly-walks/
LOCATION:Heritage Park – West End\, 2092 Reed Rd\, Lima\, Ohio\, 45806
END:VEVENT
BEGIN:VEVENT
DTSTART;TZID=America/New_York:20251203T100000
DTEND;TZID=America/New_York:20251203T170000
DTSTAMP:20260421T102229
CREATED:20251121T220050Z
LAST-MODIFIED:20251117T123044Z
UID:10000539-1764756000-1764781200@jampd.com
SUMMARY:Christmas Tree Festival
DESCRIPTION:Visit the Park District Tree at the 53rd annual Christmas Tree Festival held at the Allen County Museum\, a free holiday tradition in Lima! Enjoy the holiday-themed entertainment and Christmas trees decorated by area organizations while in the museum\, visit the MacDonnell House and the 1800s log home right next door\, and don’t forget to visit Evergreen\, the Talking Tree! \n 
URL:https://jampd.com/event/christmas-tree-festival-8/
LOCATION:Allen County Museum\, 620 W Market\, Lima\, Ohio\, 45801\, United States
END:VEVENT
BEGIN:VEVENT
DTSTART;TZID=America/New_York:20251204T100000
DTEND;TZID=America/New_York:20251204T110000
DTSTAMP:20260421T102229
CREATED:20251121T220039Z
LAST-MODIFIED:20251117T125858Z
UID:10000547-1764842400-1764846000@jampd.com
SUMMARY:Nature Pals: Winter In The Woods
DESCRIPTION:There is a chill in the air! Children ages 3-5 along with an adult companion are invited to find out who is out and about and who is snoozing the winter away. Bundle up for some winter exploration! Register by Dec. 2. \n 
URL:https://jampd.com/event/nature-pals-winter-in-the-woods/
LOCATION:McElroy Environmental Education Center\, 2355 Ada Rd\, Lima\, OH\, 45801
END:VEVENT
BEGIN:VEVENT
DTSTART;TZID=America/New_York:20251204T100000
DTEND;TZID=America/New_York:20251204T170000
DTSTAMP:20260421T102229
CREATED:20251121T220050Z
LAST-MODIFIED:20251117T123133Z
UID:10000540-1764842400-1764867600@jampd.com
SUMMARY:Christmas Tree Festival
DESCRIPTION:Visit the Park District Tree at the 53rd annual Christmas Tree Festival held at the Allen County Museum\, a free holiday tradition in Lima! Enjoy the holiday-themed entertainment and Christmas trees decorated by area organizations while in the museum\, visit the MacDonnell House and the 1800s log home right next door\, and don’t forget to visit Evergreen\, the Talking Tree! \n 
URL:https://jampd.com/event/christmas-tree-festival-9/
LOCATION:OH
END:VEVENT
BEGIN:VEVENT
DTSTART;TZID=America/New_York:20251204T130000
DTEND;TZID=America/New_York:20251204T140000
DTSTAMP:20260421T102229
CREATED:20251121T220021Z
LAST-MODIFIED:20251117T130036Z
UID:10000548-1764853200-1764856800@jampd.com
SUMMARY:Nature Pals: Winter In The Woods
DESCRIPTION:There is a chill in the air! Children ages 3-5 along with an adult companion are invited to find out who is out and about and who is snoozing the winter away. Bundle up for some winter exploration! Register by Dec. 2. \n 
URL:https://jampd.com/event/nature-pals-winter-in-the-woods-2/
LOCATION:McElroy Environmental Education Center\, 2355 Ada Rd\, Lima\, OH\, 45801
END:VEVENT
BEGIN:VEVENT
DTSTART;TZID=America/New_York:20251205T100000
DTEND;TZID=America/New_York:20251205T130000
DTSTAMP:20260421T102229
CREATED:20251121T220043Z
LAST-MODIFIED:20251117T130201Z
UID:10000549-1764928800-1764939600@jampd.com
SUMMARY:Nature Pals: Winter In The Woods
DESCRIPTION:There is a chill in the air! Children ages 3-5 along with an adult companion are invited to find out who is out and about and who is snoozing the winter away. Bundle up for some winter exploration! Register by Dec. 2. \n 
URL:https://jampd.com/event/nature-pals-winter-in-the-woods-3/
LOCATION:McElroy Environmental Education Center\, 2355 Ada Rd\, Lima\, OH\, 45801
END:VEVENT
BEGIN:VEVENT
DTSTART;TZID=America/New_York:20251205T100000
DTEND;TZID=America/New_York:20251205T200000
DTSTAMP:20260421T102229
CREATED:20251121T220042Z
LAST-MODIFIED:20251117T123424Z
UID:10000541-1764928800-1764964800@jampd.com
SUMMARY:Christmas Tree Festival
DESCRIPTION:Visit the Park District Tree at the 53rd annual Christmas Tree Festival held at the Allen County Museum\, a free holiday tradition in Lima! Enjoy the holiday-themed entertainment and Christmas trees decorated by area organizations while in the museum\, visit the MacDonnell House and the 1800s log home right next door\, and don’t forget to visit Evergreen\, the Talking Tree! \n 
URL:https://jampd.com/event/christmas-tree-festival-10/
LOCATION:Allen County Museum\, 620 W Market\, Lima\, Ohio\, 45801\, United States
END:VEVENT
BEGIN:VEVENT
DTSTART;TZID=America/New_York:20251205T130000
DTEND;TZID=America/New_York:20251205T140000
DTSTAMP:20260421T102229
CREATED:20251121T220018Z
LAST-MODIFIED:20251117T130327Z
UID:10000550-1764939600-1764943200@jampd.com
SUMMARY:Nature Pals: Winter In The Woods
DESCRIPTION:There is a chill in the air! Children ages 3-5 along with an adult companion are invited to find out who is out and about and who is snoozing the winter away. Bundle up for some winter exploration! Register by Dec. 2. \n 
URL:https://jampd.com/event/nature-pals-winter-in-the-woods-4/
LOCATION:McElroy Environmental Education Center\, 2355 Ada Rd\, Lima\, OH\, 45801
END:VEVENT
BEGIN:VEVENT
DTSTART;TZID=America/New_York:20251207T100000
DTEND;TZID=America/New_York:20251207T170000
DTSTAMP:20260421T102229
CREATED:20251121T220053Z
LAST-MODIFIED:20251117T123552Z
UID:10000542-1765101600-1765126800@jampd.com
SUMMARY:Christmas Tree Festival
DESCRIPTION:Visit the Park District Tree at the 53rd annual Christmas Tree Festival held at the Allen County Museum\, a free holiday tradition in Lima! Enjoy the holiday-themed entertainment and Christmas trees decorated by area organizations while in the museum\, visit the MacDonnell House and the 1800s log home right next door\, and don’t forget to visit Evergreen\, the Talking Tree! \n 
URL:https://jampd.com/event/christmas-tree-festival-11/
LOCATION:Allen County Museum\, 620 W Market\, Lima\, Ohio\, 45801\, United States
END:VEVENT
BEGIN:VEVENT
DTSTART;TZID=America/New_York:20251207T120000
DTEND;TZID=America/New_York:20251207T170000
DTSTAMP:20260421T102229
CREATED:20251121T220003Z
LAST-MODIFIED:20251117T124134Z
UID:10000543-1765108800-1765126800@jampd.com
SUMMARY:Christmas Tree Festival
DESCRIPTION:Visit the Park District Tree at the 53rd annual Christmas Tree Festival held at the Allen County Museum\, a free holiday tradition in Lima! Enjoy the holiday-themed entertainment and Christmas trees decorated by area organizations while in the museum\, visit the MacDonnell House and the 1800s log home right next door\, and don’t forget to visit Evergreen\, the Talking Tree! \n 
URL:https://jampd.com/event/christmas-tree-festival-12/
LOCATION:Allen County Museum\, 620 W Market\, Lima\, Ohio\, 45801\, United States
END:VEVENT
BEGIN:VEVENT
DTSTART;TZID=America/New_York:20251210T090000
DTEND;TZID=America/New_York:20251210T100000
DTSTAMP:20260421T102229
CREATED:20251121T220021Z
LAST-MODIFIED:20251117T125549Z
UID:10000545-1765357200-1765360800@jampd.com
SUMMARY:Weekly Walks
DESCRIPTION:Enjoy the quiet winter mornings while we get in our steps! Sometimes it is hard to find a reason to go outside in the winter months\, but together we can get rid of that cabin fever! Join a Naturalist as we walk the trails of Heritage Park. Together we can achieve our fitness goals while also enjoying nature. All ages are welcome\, and we can set our own pace. Dress for the weather—rain\, snow\, or shine! Meet at the Veterans Shelter. Register by December 9. \n 
URL:https://jampd.com/event/weekly-walks-2/
LOCATION:Heritage Park – West End\, 2092 Reed Rd\, Lima\, Ohio\, 45806
END:VEVENT
BEGIN:VEVENT
DTSTART;TZID=America/New_York:20251213T100000
DTEND;TZID=America/New_York:20251213T120000
DTSTAMP:20260421T102229
CREATED:20251121T220047Z
LAST-MODIFIED:20251117T142039Z
UID:10000551-1765620000-1765627200@jampd.com
SUMMARY:A Visit With Santa!
DESCRIPTION:Tis the Season!  Santa and Company invite you to visit the Lauer House for the holidays!  Have your Christmas list ready and bring your camera for a photo opportunity.  Register by Dec. 12. \n 
URL:https://jampd.com/event/a-visit-with-santa/
LOCATION:Lauer Historical Farm\, 800 Roush Rd.\, Lima\, Ohio\, 45801
END:VEVENT
BEGIN:VEVENT
DTSTART;TZID=America/New_York:20251213T110000
DTEND;TZID=America/New_York:20251213T130000
DTSTAMP:20260421T102229
CREATED:20251121T220053Z
LAST-MODIFIED:20251117T142619Z
UID:10000553-1765623600-1765630800@jampd.com
SUMMARY:Nature DIY: Ravishing Wreaths
DESCRIPTION:Spend a “crafter-noon” making wreaths from natural materials! Learn how to wrap a grapevine wreath and spend some time decorating it with objects found in nature. All ages and skill levels are welcome! Some pre-wrapped wreaths will be available for younger participants. Feel free to bring along any bobs and bits to help decorate your wreath and to share with others! Register by Dec. 12. \n 
URL:https://jampd.com/event/nature-diy-ravishing-wreaths-4/
LOCATION:McElroy Environmental Education Center\, 2355 Ada Rd\, Lima\, OH\, 45801
END:VEVENT
BEGIN:VEVENT
DTSTART;TZID=America/New_York:20251213T130000
DTEND;TZID=America/New_York:20251213T150000
DTSTAMP:20260421T102229
CREATED:20251121T220049Z
LAST-MODIFIED:20251117T142445Z
UID:10000552-1765630800-1765638000@jampd.com
SUMMARY:A Visit With Santa!
DESCRIPTION:Tis the Season!  Santa and Company invite you to visit the Lauer House for the holidays!  Have your Christmas list ready and bring your camera for a photo opportunity.  Register by Dec. 12. \n 
URL:https://jampd.com/event/a-visit-with-santa-2/
LOCATION:Lauer Historical Farm\, 800 Roush Rd.\, Lima\, Ohio\, 45801
END:VEVENT
BEGIN:VEVENT
DTSTART;TZID=America/New_York:20251213T190000
DTEND;TZID=America/New_York:20251213T213000
DTSTAMP:20260421T102229
CREATED:20251121T220041Z
LAST-MODIFIED:20251117T143739Z
UID:10000554-1765652400-1765661400@jampd.com
SUMMARY:Geminid Meteor Shower
DESCRIPTION:Boasting up to 120 “shooting stars” per hour\, this is one of the northern hemisphere’s best meteor showers of the year! We’ll begin by listening to a presentation by the Lima Astronomical Society\, then watch for meteors and view other celestial objects through telescopes! We will use the heated Roebuck Shelter to warm up as necessary\, but please dress for the weather. This event is dependent on weather and cloud cover; check the Lima Astronomical Society website for cancellation prior to the event. Register by Dec. 12. \n 
URL:https://jampd.com/event/geminid-meteor-shower-2/
LOCATION:Deep Cut Historical Park\, 22900 SR 66\, Spencerville\, Ohio\, 45887
END:VEVENT
BEGIN:VEVENT
DTSTART;TZID=America/New_York:20251217T090000
DTEND;TZID=America/New_York:20251217T100000
DTSTAMP:20260421T102229
CREATED:20251121T220057Z
LAST-MODIFIED:20251117T125433Z
UID:10000546-1765962000-1765965600@jampd.com
SUMMARY:Weekly Walks
DESCRIPTION:Enjoy the quiet winter mornings while we get in our steps! Sometimes it is hard to find a reason to go outside in the winter months\, but together we can get rid of that cabin fever! Join a Naturalist as we walk the trails of Heritage Park. Together we can achieve our fitness goals while also enjoying nature. All ages are welcome\, and we can set our own pace. Dress for the weather—rain\, snow\, or shine! Meet at the Veterans Shelter. Register by Dec. 16. \n 
URL:https://jampd.com/event/weekly-walks-3/
LOCATION:Heritage Park – West End\, 2092 Reed Rd\, Lima\, Ohio\, 45806
END:VEVENT
BEGIN:VEVENT
DTSTART;TZID=America/New_York:20251220T100000
DTEND;TZID=America/New_York:20251220T110000
DTSTAMP:20260421T102229
CREATED:20251121T220055Z
LAST-MODIFIED:20251209T184709Z
UID:10000555-1766224800-1766228400@jampd.com
SUMMARY:Kids Krafts
DESCRIPTION:Does your child love crafting? We love it too! Bring your young crafter every third Saturday to our McElroy Environmental Education Center for an hour of nature craft time. Registration is limited to ages 7 and up. General crafting supplies for the activity will be provided\, but if you have any special crafting items you like to use feel free to bring them along! Register by Dec. 19. \n 
URL:https://jampd.com/event/kids-krafts/
LOCATION:McElroy Environmental Education Center\, 2355 Ada Rd\, Lima\, OH\, 45801
END:VEVENT
BEGIN:VEVENT
DTSTART;TZID=America/New_York:20251221T140000
DTEND;TZID=America/New_York:20251221T160000
DTSTAMP:20260421T102229
CREATED:20251121T220031Z
LAST-MODIFIED:20251117T144106Z
UID:10000556-1766325600-1766332800@jampd.com
SUMMARY:Nature Bingo!
DESCRIPTION:Explore the natural world and hone your observation skills at the same time! On this hike\, you will work as a team with others or competitively on your own to see if you can get a bingo by the end of the trail! This is a program for people of all ages to enjoy together. Dress for the weather and prepare for winter trail conditions. Meet at the Veterans Shelter. Register by Dec 19. \n 
URL:https://jampd.com/event/nature-bingo/
LOCATION:Heritage Park – West End\, 2092 Reed Rd\, Lima\, Ohio\, 45806
END:VEVENT
BEGIN:VEVENT
DTSTART;TZID=America/New_York:20260103T183000
DTEND;TZID=America/New_York:20260103T200000
DTSTAMP:20260421T102229
CREATED:20251121T220014Z
LAST-MODIFIED:20251117T144529Z
UID:10000557-1767465000-1767470400@jampd.com
SUMMARY:Howl@The Moon: Wolf Moon
DESCRIPTION:Across time\, people all over the world have utilized the moon to track the seasons. Giving each full moon a special name was one way to honor nature’s signs and traditions. Experience the outdoors under the light of the full moon and learn about the names and folklore associated with January’s full moon. Dress for the weather and prepare for winter trail conditions. Meet at the Hickory Shelter. Register by Jan. 1. \n 
URL:https://jampd.com/event/howlthe-moon-wolf-moon/
LOCATION:Kendrick Woods\, 971 N Defiance Trl\, Spencerville\, 45887\, United States
END:VEVENT
END:VCALENDAR