BEGIN:VCALENDAR
VERSION:2.0
PRODID:-//Johnny Appleseed Metropolitan Park District - ECPv6.15.18//NONSGML v1.0//EN
CALSCALE:GREGORIAN
METHOD:PUBLISH
X-ORIGINAL-URL:https://jampd.com
X-WR-CALDESC:Events for Johnny Appleseed Metropolitan Park District
REFRESH-INTERVAL;VALUE=DURATION:PT1H
X-Robots-Tag:noindex
X-PUBLISHED-TTL:PT1H
BEGIN:VTIMEZONE
TZID:America/New_York
BEGIN:DAYLIGHT
TZOFFSETFROM:-0500
TZOFFSETTO:-0400
TZNAME:EDT
DTSTART:20250309T070000
END:DAYLIGHT
BEGIN:STANDARD
TZOFFSETFROM:-0400
TZOFFSETTO:-0500
TZNAME:EST
DTSTART:20251102T060000
END:STANDARD
BEGIN:DAYLIGHT
TZOFFSETFROM:-0500
TZOFFSETTO:-0400
TZNAME:EDT
DTSTART:20260308T070000
END:DAYLIGHT
BEGIN:STANDARD
TZOFFSETFROM:-0400
TZOFFSETTO:-0500
TZNAME:EST
DTSTART:20261101T060000
END:STANDARD
BEGIN:DAYLIGHT
TZOFFSETFROM:-0500
TZOFFSETTO:-0400
TZNAME:EDT
DTSTART:20270314T070000
END:DAYLIGHT
BEGIN:STANDARD
TZOFFSETFROM:-0400
TZOFFSETTO:-0500
TZNAME:EST
DTSTART:20271107T060000
END:STANDARD
END:VTIMEZONE
BEGIN:VEVENT
DTSTART;TZID=America/New_York:20260506T090000
DTEND;TZID=America/New_York:20260506T100000
DTSTAMP:20260421T175723
CREATED:20260223T165451Z
LAST-MODIFIED:20260223T165451Z
UID:10000630-1778058000-1778061600@jampd.com
SUMMARY:Weekly Walks
DESCRIPTION:Enjoy the quiet spring mornings while we get in our steps! After a long winter it is time to enjoy the nice weather again. Join a Naturalist as we walk the trails of Herman Woodlands. Together we can achieve our fitness goals while also enjoying nature. All ages are welcome\, and we can set our own pace. Dress for the weather\, rain\, snow\, or shine! Register by May 5. \n 
URL:https://jampd.com/event/weekly-walks-19/
LOCATION:Hermon Woodlands Metro Park\, 485 N. Wapak Road\, Lima\, OH\, 45807
END:VEVENT
BEGIN:VEVENT
DTSTART;TZID=America/New_York:20260507T100000
DTEND;TZID=America/New_York:20260507T110000
DTSTAMP:20260421T175723
CREATED:20260223T183448Z
LAST-MODIFIED:20260223T183448Z
UID:10000632-1778148000-1778151600@jampd.com
SUMMARY:Nature Pals: Beautiful Box Turtles
DESCRIPTION:What are box turtles\, and what makes them special? Children ages 3-5 along with an adult companion are invited to come learn about these terrific turtles! Come dressed for a hike in the woods. Registration required by May 6. \n 
URL:https://jampd.com/event/nature-pals-beautiful-box-turtles/
LOCATION:McElroy Environmental Education Center\, 2355 Ada Rd\, Lima\, OH\, 45801
END:VEVENT
BEGIN:VEVENT
DTSTART;TZID=America/New_York:20260507T130000
DTEND;TZID=America/New_York:20260507T140000
DTSTAMP:20260421T175723
CREATED:20260223T183554Z
LAST-MODIFIED:20260223T183554Z
UID:10000633-1778158800-1778162400@jampd.com
SUMMARY:Nature Pals: Beautiful Box Turtles
DESCRIPTION:What are box turtles\, and what makes them special? Children ages 3-5 along with an adult companion are invited to come learn about these terrific turtles! Come dressed for a hike in the woods. Registration required by May 6. \n 
URL:https://jampd.com/event/nature-pals-beautiful-box-turtles-2/
LOCATION:McElroy Environmental Education Center\, 2355 Ada Rd\, Lima\, OH\, 45801
END:VEVENT
BEGIN:VEVENT
DTSTART;TZID=America/New_York:20260508T100000
DTEND;TZID=America/New_York:20260508T110000
DTSTAMP:20260421T175723
CREATED:20260223T184601Z
LAST-MODIFIED:20260223T184601Z
UID:10000634-1778234400-1778238000@jampd.com
SUMMARY:Nature Pals: Beautiful Box Turtles
DESCRIPTION:What are box turtles\, and what makes them special? Children ages 3-5 along with an adult companion are invited to come learn about these terrific turtles! Come dressed for a hike in the woods. Registration required by May 7. \n 
URL:https://jampd.com/event/nature-pals-beautiful-box-turtles-3/
LOCATION:McElroy Environmental Education Center\, 2355 Ada Rd\, Lima\, OH\, 45801
END:VEVENT
BEGIN:VEVENT
DTSTART;TZID=America/New_York:20260508T130000
DTEND;TZID=America/New_York:20260508T140000
DTSTAMP:20260421T175723
CREATED:20260223T184728Z
LAST-MODIFIED:20260223T184728Z
UID:10000635-1778245200-1778248800@jampd.com
SUMMARY:Nature Pals: Beautiful Box Turtles
DESCRIPTION:What are box turtles\, and what makes them special? Children ages 3-5 along with an adult companion are invited to come learn about these terrific turtles! Come dressed for a hike in the woods. Registration required by May 6. \n 
URL:https://jampd.com/event/nature-pals-beautiful-box-turtles-4/
LOCATION:OH
END:VEVENT
BEGIN:VEVENT
DTSTART;TZID=America/New_York:20260513T090000
DTEND;TZID=America/New_York:20260513T100000
DTSTAMP:20260421T175723
CREATED:20260223T181700Z
LAST-MODIFIED:20260223T181700Z
UID:10000631-1778662800-1778666400@jampd.com
SUMMARY:Weekly Walks
DESCRIPTION:Enjoy the quiet spring mornings while we get in our steps! After a long winter it is time to enjoy the nice weather again. Join a Naturalist as we walk the trails of Herman Woodlands. Together we can achieve our fitness goals while also enjoying nature. All ages are welcome\, and we can set our own pace. Dress for the weather\, rain\, snow\, or shine! Register by May 12. \n 
URL:https://jampd.com/event/weekly-walks-20/
LOCATION:Hermon Woodlands Metro Park\, 485 N. Wapak Road\, Lima\, OH\, 45807
END:VEVENT
BEGIN:VEVENT
DTSTART;TZID=America/New_York:20260513T093000
DTEND;TZID=America/New_York:20260513T110000
DTSTAMP:20260421T175723
CREATED:20260223T192216Z
LAST-MODIFIED:20260223T192216Z
UID:10000636-1778664600-1778670000@jampd.com
SUMMARY:Homeschool Field Trip: Givin' A Livin"
DESCRIPTION:Join us for our interdisciplinary nature-based program focused on the characteristics of living things!  Children ages 4 to 6 and their families will learn from Nature Education staff and curriculum-based activities that people\, plants\, and animals are all living things and share important features.  Meet at the Hornung Shelter.  Registration is required. Please register all family members who will be attending the program.  Register by May 6. \n 
URL:https://jampd.com/event/homeschool-field-trip-givin-a-livin/
LOCATION:McLean Teddy Bear Park\, 2004 N. Dixie Hwy.\, Lima\, OH\, 45801\, United States
END:VEVENT
BEGIN:VEVENT
DTSTART;TZID=America/New_York:20260513T130000
DTEND;TZID=America/New_York:20260513T143000
DTSTAMP:20260421T175723
CREATED:20260223T192338Z
LAST-MODIFIED:20260223T192338Z
UID:10000637-1778677200-1778682600@jampd.com
SUMMARY:Homeschool Field Trip: Givin' A Livin'
DESCRIPTION:Join us for our interdisciplinary nature-based program focused on the characteristics of living things!  Children ages 4 to 6 and their families will learn from Nature Education staff and curriculum-based activities that people\, plants\, and animals are all living things and share important features.  Meet at the Hornung Shelter.  Registration is required. Please register all family members who will be attending the program.  Register by May 6. \n 
URL:https://jampd.com/event/homeschool-field-trip-givin-a-livin-2/
LOCATION:McLean Teddy Bear Park\, 2004 N. Dixie Hwy.\, Lima\, OH\, 45801\, United States
END:VEVENT
BEGIN:VEVENT
DTSTART;TZID=America/New_York:20260518T063000
DTEND;TZID=America/New_York:20260518T170000
DTSTAMP:20260421T175723
CREATED:20260223T192720Z
LAST-MODIFIED:20260223T192720Z
UID:10000638-1779085800-1779123600@jampd.com
SUMMARY:Big Birding Day!
DESCRIPTION:Join us on Monday\, May 18th as we visit some of the hottest birding locations in the world\, right here in Northwest Ohio! May is peak migration for songbirds\, and you’ll have a wonderful and unique opportunity to view these birds from close range and with expert guidance from our Naturalists. Our birding trip will begin with the boardwalk at Magee Marsh Wildlife Area and may also include the Ottawa National Wildlife Refuge driving tour\, Howard Marsh\, and more! A carpool of Park District vehicles will depart at 6:30 am from the McElroy Environmental Education Center located at 2355 Ada Road. We will take the morning to explore Magee Marsh then visit neighboring locations in the afternoon. Experienced and beginning birders are welcome! Appropriate clothing/footwear\, binoculars\, sun protection\, lunch/snacks/beverages\, and field guides are recommended. A limited number of binoculars and field guides will be provided. For more information contact Marie Walton at mwalton@jampd.com. Be sure to register early for a seat in the van! Register by May 15. \n 
URL:https://jampd.com/event/big-birding-day-6/
LOCATION:OH
END:VEVENT
BEGIN:VEVENT
DTSTART;TZID=America/New_York:20260523T053000
DTEND;TZID=America/New_York:20260523T063000
DTSTAMP:20260421T175723
CREATED:20260223T193002Z
LAST-MODIFIED:20260223T193002Z
UID:10000639-1779514200-1779517800@jampd.com
SUMMARY:Sunrise Hike
DESCRIPTION:Did you know there are animals that are more active during dawn and dusk than any other parts of the day? During our quiet sunrise hike we could have the perfect opportunity to see some of these animals before they hide away for the day. Join us for a one-hour hike to watch the sunrise and keep an eye out for any early morning animals. Registration is required to participate in this program. Register by May 21. \n 
URL:https://jampd.com/event/sunrise-hike-6/
LOCATION:McLean Teddy Bear Park\, 2004 N. Dixie Hwy.\, Lima\, OH\, 45801\, United States
END:VEVENT
BEGIN:VEVENT
DTSTART;TZID=America/New_York:20260527T170000
DTEND;TZID=America/New_York:20260527T180000
DTSTAMP:20260421T175723
CREATED:20260223T193154Z
LAST-MODIFIED:20260223T193154Z
UID:10000640-1779901200-1779904800@jampd.com
SUMMARY:Beginning Archery
DESCRIPTION:Enjoy the great outdoors while learning a new skill! Participants ages 9 to adult are invited to join us on the range to explore this unique recreational sport. Certified archery instructors will lead participants in proper shooting technique while developing consistency and accuracy in their shot. All materials will be provided by the park district; participants must use the equipment provided. Wear closed-toe shoes and secure long hair. Please register for only one evening session. Register by May 26. \n 
URL:https://jampd.com/event/beginning-archery-20/
LOCATION:Allen County Farm Park\, 1582 Slabtown Road\, Lima\, Ohio\, 45801
END:VEVENT
BEGIN:VEVENT
DTSTART;TZID=America/New_York:20260527T183000
DTEND;TZID=America/New_York:20260527T193000
DTSTAMP:20260421T175723
CREATED:20260223T193317Z
LAST-MODIFIED:20260223T193317Z
UID:10000641-1779906600-1779910200@jampd.com
SUMMARY:Beginning Archery
DESCRIPTION:Enjoy the great outdoors while learning a new skill! Participants ages 9 to adult are invited to join us on the range to explore this unique recreational sport. Certified archery instructors will lead participants in proper shooting technique while developing consistency and accuracy in their shot. All materials will be provided by the park district; participants must use the equipment provided. Wear closed-toe shoes and secure long hair. Please register for only one evening session. Register by May 26.
URL:https://jampd.com/event/beginning-archery-21/
LOCATION:Allen County Farm Park\, 1582 Slabtown Road\, Lima\, Ohio\, 45801
END:VEVENT
BEGIN:VEVENT
DTSTART;TZID=America/New_York:20260528T160000
DTEND;TZID=America/New_York:20260528T170000
DTSTAMP:20260421T175723
CREATED:20260223T193437Z
LAST-MODIFIED:20260223T193437Z
UID:10000642-1779984000-1779987600@jampd.com
SUMMARY:Feeding Day
DESCRIPTION:The Park District maintains several education animals in the McElroy Environmental Education Center\, using them throughout the year for nature presentations and programs. Join the Critter Care volunteers to watch (or help!) them clean and feed all our animals at 4 pm on the last Thursday of the month! Register by May 27.
URL:https://jampd.com/event/feeding-day-32/
LOCATION:McElroy Environmental Education Center\, 2355 Ada Rd\, Lima\, OH\, 45801
END:VEVENT
END:VCALENDAR