BEGIN:VCALENDAR
VERSION:2.0
PRODID:-//Johnny Appleseed Metropolitan Park District - ECPv6.15.18//NONSGML v1.0//EN
CALSCALE:GREGORIAN
METHOD:PUBLISH
X-ORIGINAL-URL:https://jampd.com
X-WR-CALDESC:Events for Johnny Appleseed Metropolitan Park District
REFRESH-INTERVAL;VALUE=DURATION:PT1H
X-Robots-Tag:noindex
X-PUBLISHED-TTL:PT1H
BEGIN:VTIMEZONE
TZID:America/New_York
BEGIN:DAYLIGHT
TZOFFSETFROM:-0500
TZOFFSETTO:-0400
TZNAME:EDT
DTSTART:20240310T070000
END:DAYLIGHT
BEGIN:STANDARD
TZOFFSETFROM:-0400
TZOFFSETTO:-0500
TZNAME:EST
DTSTART:20241103T060000
END:STANDARD
BEGIN:DAYLIGHT
TZOFFSETFROM:-0500
TZOFFSETTO:-0400
TZNAME:EDT
DTSTART:20250309T070000
END:DAYLIGHT
BEGIN:STANDARD
TZOFFSETFROM:-0400
TZOFFSETTO:-0500
TZNAME:EST
DTSTART:20251102T060000
END:STANDARD
BEGIN:DAYLIGHT
TZOFFSETFROM:-0500
TZOFFSETTO:-0400
TZNAME:EDT
DTSTART:20260308T070000
END:DAYLIGHT
BEGIN:STANDARD
TZOFFSETFROM:-0400
TZOFFSETTO:-0500
TZNAME:EST
DTSTART:20261101T060000
END:STANDARD
END:VTIMEZONE
BEGIN:VEVENT
DTSTART;TZID=America/New_York:20250730T160000
DTEND;TZID=America/New_York:20250730T173000
DTSTAMP:20260419T214920
CREATED:20250523T160026Z
LAST-MODIFIED:20250522T163520Z
UID:10000475-1753891200-1753896600@jampd.com
SUMMARY:Feeding Day
DESCRIPTION:The Park District maintains several education animals in the McElroy Environmental Education Center\, using them throughout the year for nature presentations and programs. Join the Critter Care volunteers to watch (or help!) them clean and feed all our animals at 4 pm on the last Thursday of the month! Register by July 30. \n 
URL:https://jampd.com/event/feeding-day-25/
LOCATION:McElroy Environmental Education Center\, 2355 Ada Rd\, Lima\, OH\, 45801
END:VEVENT
BEGIN:VEVENT
DTSTART;TZID=America/New_York:20250730T180000
DTEND;TZID=America/New_York:20250730T190000
DTSTAMP:20260419T214920
CREATED:20250523T160010Z
LAST-MODIFIED:20250522T163204Z
UID:10000473-1753898400-1753902000@jampd.com
SUMMARY:Beginning Archery
DESCRIPTION:Enjoy the great outdoors while learning a new skill! Participants ages 9 to adult are invited to join us on the range to explore this unique recreational sport and appreciate the role of archery in wildlife management. Certified archery instructors will lead participants in proper shooting technique and highlight important safety considerations. All materials will be provided by the park district; participants must use the equipment provided. Wear closed-toe shoes and secure long hair. Please register for only one evening session. Register by July 27.
URL:https://jampd.com/event/beginning-archery-12/
LOCATION:Kendrick Woods – Evans Archery Range\, 1376 N St. Mary's Rd\, Spencerville\, Ohio\, 45887
END:VEVENT
BEGIN:VEVENT
DTSTART;TZID=America/New_York:20250730T190000
DTEND;TZID=America/New_York:20250730T200000
DTSTAMP:20260419T214920
CREATED:20250523T160010Z
LAST-MODIFIED:20250522T163318Z
UID:10000474-1753902000-1753905600@jampd.com
SUMMARY:Beginning Archery
DESCRIPTION:Enjoy the great outdoors while learning a new skill! Participants ages 9 to adult are invited to join us on the range to explore this unique recreational sport and appreciate the role of archery in wildlife management. Certified archery instructors will lead participants in proper shooting technique and highlight important safety considerations. All materials will be provided by the park district; participants must use the equipment provided. Wear closed-toe shoes and secure long hair. Please register for only one evening session. Register by July 27.
URL:https://jampd.com/event/beginning-archery-13/
LOCATION:Kendrick Woods – Evans Archery Range\, 1376 N St. Mary's Rd\, Spencerville\, Ohio\, 45887
END:VEVENT
BEGIN:VEVENT
DTSTART;TZID=America/New_York:20250802T110000
DTEND;TZID=America/New_York:20250802T120000
DTSTAMP:20260419T214920
CREATED:20250508T185240Z
LAST-MODIFIED:20250508T185240Z
UID:10000447-1754132400-1754136000@jampd.com
SUMMARY:Mark's Ark
DESCRIPTION:Live exotic animals.
URL:https://jampd.com/event/marks-ark-2/
LOCATION:Ottawa Metro Park – Amphitheater\, 2632 Ada Road\, Lima\, Ohio\, 45801
END:VEVENT
BEGIN:VEVENT
DTSTART;TZID=America/New_York:20250805T180000
DTEND;TZID=America/New_York:20250805T210000
DTSTAMP:20260419T214920
CREATED:20250523T160029Z
LAST-MODIFIED:20250522T163729Z
UID:10000476-1754416800-1754427600@jampd.com
SUMMARY:National Night Out
DESCRIPTION:Come join family and friends at your community’s National Night Out! The Johnny Appleseed Metro Park District hosts the Shawnee community at Heritage Park and has had a presence around the county\, including Bluffton\, Allen Co Fairgrounds\, Elida and more!  There will be food\, activities for the kids and displays from your local Fire and Law Enforcement Departments. Take this opportunity to spend an evening with your family and meet some of your local first responders! \n 
URL:https://jampd.com/event/national-night-out-6/
LOCATION:Heritage Park – West End\, 2092 Reed Rd\, Lima\, Ohio\, 45806
END:VEVENT
BEGIN:VEVENT
DTSTART;TZID=America/New_York:20250807T110000
DTEND;TZID=America/New_York:20250807T130000
DTSTAMP:20260419T214920
CREATED:20250523T160055Z
LAST-MODIFIED:20250522T163941Z
UID:10000477-1754564400-1754571600@jampd.com
SUMMARY:Homeschool Series: Invertebrate Investigation
DESCRIPTION:Make no bones about it\, spineless critters that creep and crawl are super cool!  Join a Naturalist to discover how animals are classified and explore invertebrate individuals up close. Activities will be differentiated for a variety of ages\, with a focus on ages 5 – 10. Registration is required for all participating children; parents or guardians should accompany registered participants. Register by Aug. 4. \n 
URL:https://jampd.com/event/homeschool-series-invertebrate-investigation/
LOCATION:McElroy Environmental Education Center\, 2355 Ada Rd\, Lima\, OH\, 45801
END:VEVENT
BEGIN:VEVENT
DTSTART;TZID=America/New_York:20250808T153000
DTEND;TZID=America/New_York:20250808T170000
DTSTAMP:20260419T214920
CREATED:20250523T160013Z
LAST-MODIFIED:20250522T173448Z
UID:10000478-1754667000-1754672400@jampd.com
SUMMARY:Prairie Fairies
DESCRIPTION:Come out to Cottonwood Trail and help a naturalist look for real-life fairies of the prairie- butterflies and moths! Soaring through the air\, leading you down the paths\, and sipping delicately from flowers\, these incredible insects are a treat to see. Together we will learn about the importance of prairies\, how to observe and handle butterflies\, and appreciate the beauty of this incredible ecosystem. Butterfly nets provided. Guests are invited to come wearing fairy wings or flower crowns for fun! Closed-toed shoes and socks are recommended. Register by Aug. 5. \n 
URL:https://jampd.com/event/prairie-fairies-2/
LOCATION:Kendrick Woods – Cottonwood Trail Access\, 10659 Zion Church Road\, Spencerville\, Ohio\, 45887
END:VEVENT
BEGIN:VEVENT
DTSTART;TZID=America/New_York:20250809T110000
DTEND;TZID=America/New_York:20250809T120000
DTSTAMP:20260419T214920
CREATED:20250508T185408Z
LAST-MODIFIED:20250508T185408Z
UID:10000448-1754737200-1754740800@jampd.com
SUMMARY:Gordon the Magician
DESCRIPTION:Magician. Family Entertainment
URL:https://jampd.com/event/gordon-the-magician-3/
LOCATION:Ottawa Metro Park – Amphitheater\, 2632 Ada Road\, Lima\, Ohio\, 45801
END:VEVENT
BEGIN:VEVENT
DTSTART;TZID=America/New_York:20250809T203000
DTEND;TZID=America/New_York:20250809T220000
DTSTAMP:20260419T214920
CREATED:20250523T160002Z
LAST-MODIFIED:20250522T173704Z
UID:10000479-1754771400-1754776800@jampd.com
SUMMARY:Full Moon Kayak Float
DESCRIPTION:Get ready to experience the sunset on Lima Lake and enjoy all the sounds and sensations of the lake at night. Watch the moon rise and night animals start to come out! Guests must be ages 14+ with an adult and have previous kayak experience. Bug spray and bottled water recommended. A registration fee of $5 holds your spot\, will be refunded within a few days of your confirmed attendance. Register by Aug 8. \n 
URL:https://jampd.com/event/full-moon-kayak-float/
LOCATION:Ottawa Metro Park\, 2632 Ada Road\, Lima\, OH\, 45801\, United States
END:VEVENT
BEGIN:VEVENT
DTSTART;TZID=America/New_York:20250809T210000
DTEND;TZID=America/New_York:20250809T230000
DTSTAMP:20260419T214920
CREATED:20250523T160011Z
LAST-MODIFIED:20250522T173823Z
UID:10000480-1754773200-1754780400@jampd.com
SUMMARY:Perseid Meteor Shower
DESCRIPTION:Watch for meteors with the Lima Astronomical Society and view other celestial objects through telescopes! Bring bug spray\, lawn chairs / ground blanket\, and a light jacket for comfort. Attendees are welcome to bring their own telescope! This event is dependent on weather and cloud cover and often continues late into the night\, stay as long as you like! Check the Lima Astronomical Society website for cancellation due to weather or cloud cover ahead of the event at limaastro.com. Register by Aug. 8. \n 
URL:https://jampd.com/event/perseid-meteor-shower-6/
LOCATION:Kendrick Woods\, 971 N Defiance Trl\, Spencerville\, 45887\, United States
END:VEVENT
BEGIN:VEVENT
DTSTART;TZID=America/New_York:20250811T170000
DTEND;TZID=America/New_York:20250811T180000
DTSTAMP:20260419T214920
CREATED:20250523T160003Z
LAST-MODIFIED:20250522T174126Z
UID:10000481-1754931600-1754935200@jampd.com
SUMMARY:Parkside Pacers
DESCRIPTION:Turn up the heat on your fitness routine and walk for wellness! Join a  Naturalist as we walk a few laps or set your pace to achieve your fitness goals.  All ages & abilities are welcome.  Dress for the weather & come out rain or shine! Meet at the Wyandot Shelter. Register by Aug. 8. \n 
URL:https://jampd.com/event/parkside-pacers-5/
LOCATION:Ottawa Metro Park\, 2632 Ada Road\, Lima\, OH\, 45801\, United States
END:VEVENT
BEGIN:VEVENT
DTSTART;TZID=America/New_York:20250813T180000
DTEND;TZID=America/New_York:20250813T200000
DTSTAMP:20260419T214920
CREATED:20250523T160051Z
LAST-MODIFIED:20250522T174403Z
UID:10000482-1755108000-1755115200@jampd.com
SUMMARY:Pedal The Parks
DESCRIPTION:Put your pedals through their spin cycle and join park staff to explore the trails on two wheels! Enjoy an interpretive bike tour and “wheel”-derness ride as we travel along the Rotary Riverwalk/Ottawa River Bikeway through Heritage Park to the Collett Street Recreation Area and back again. Round trip will be around 8 miles. Dress for the weather and bring a water bottle. Helmets are required. Meet at the Veterans Shelter. Register by August 10. \n 
URL:https://jampd.com/event/pedal-the-parks-8/
LOCATION:Heritage Park – West End\, 2092 Reed Rd\, Lima\, Ohio\, 45806
END:VEVENT
BEGIN:VEVENT
DTSTART;TZID=America/New_York:20250814T173000
DTEND;TZID=America/New_York:20250814T190000
DTSTAMP:20260419T214920
CREATED:20250523T160047Z
LAST-MODIFIED:20250522T175329Z
UID:10000483-1755192600-1755198000@jampd.com
SUMMARY:Health Through Nature
DESCRIPTION:Although modern technologies are making our life easier\, more and more people are experiencing a sense of unease and anxiety.  New scientific research concludes our disconnect from nature may be the cause.  Scientists are finding that a connection to the natural world is crucial for our health and well-being.  Join a Certified Natural Mindfulness Guide on Thursday evening of each month to reap the health benefits of being in nature.  Register by Aug. 1.
URL:https://jampd.com/event/health-through-nature-19/
LOCATION:McLean Teddy Bear Park\, 2004 N. Dixie Hwy.\, Lima\, OH\, 45801\, United States
END:VEVENT
BEGIN:VEVENT
DTSTART;TZID=America/New_York:20250823T190000
DTEND;TZID=America/New_York:20250823T210000
DTSTAMP:20260419T214920
CREATED:20250508T185545Z
LAST-MODIFIED:20250508T185545Z
UID:10000449-1755975600-1755982800@jampd.com
SUMMARY:Antique Mayhem
DESCRIPTION:Cover band for the 1960’s to early 1980’s. Soft/yacht rock style music.
URL:https://jampd.com/event/antique-mayhem/
LOCATION:Ottawa Metro Park – Amphitheater\, 2632 Ada Road\, Lima\, Ohio\, 45801
END:VEVENT
BEGIN:VEVENT
DTSTART;TZID=America/New_York:20250825T170000
DTEND;TZID=America/New_York:20250825T180000
DTSTAMP:20260419T214920
CREATED:20250523T160047Z
LAST-MODIFIED:20250522T175550Z
UID:10000484-1756141200-1756144800@jampd.com
SUMMARY:Parkside Pacers
DESCRIPTION:Turn up the heat on your fitness routine and walk for wellness! Join a  Naturalist as we walk a few laps or set your pace to achieve your fitness goals.  All ages & abilities are welcome.  Dress for the weather & come out rain or shine! Meet at the Wyandot Shelter. Register by Aug. 21. \n 
URL:https://jampd.com/event/parkside-pacers-6/
LOCATION:Hermon Woodlands Metro Park\, 485 N. Wapak Road\, Lima\, OH\, 45807
END:VEVENT
BEGIN:VEVENT
DTSTART;TZID=America/New_York:20250826T100000
DTEND;TZID=America/New_York:20250826T113000
DTSTAMP:20260419T214920
CREATED:20250523T160006Z
LAST-MODIFIED:20250522T175818Z
UID:10000485-1756202400-1756207800@jampd.com
SUMMARY:Imaginature Playgroup
DESCRIPTION:Come play with us at the Hermon Woodlands Imaginature Playscape!  Join a naturalist at the West Shelter for a mini program\, then spend the rest of the time playing and exploring in the playscape and creek.  Feel free to pack a picnic lunch and extra shoes and/or clothes for the ride home!  Register by August 22. \n 
URL:https://jampd.com/event/imaginature-playgroup-38/
LOCATION:Hermon Woodlands Metro Park\, 485 N. Wapak Road\, Lima\, OH\, 45807
END:VEVENT
BEGIN:VEVENT
DTSTART;TZID=America/New_York:20250826T130000
DTEND;TZID=America/New_York:20250826T143000
DTSTAMP:20260419T214920
CREATED:20250523T160054Z
LAST-MODIFIED:20250522T175955Z
UID:10000486-1756213200-1756218600@jampd.com
SUMMARY:Imaginature Playgroup
DESCRIPTION:Come play with us at the Hermon Woodlands Imaginature Playscape!  Join a naturalist at the West Shelter for a mini program\, then spend the rest of the time playing and exploring in the playscape and creek.  Feel free to pack a picnic lunch and extra shoes and/or clothes for the ride home!  Register by August 22.
URL:https://jampd.com/event/imaginature-playgroup-39/
LOCATION:Hermon Woodlands Metro Park\, 485 N. Wapak Road\, Lima\, OH\, 45807
END:VEVENT
BEGIN:VEVENT
DTSTART;TZID=America/New_York:20250827T180000
DTEND;TZID=America/New_York:20250827T190000
DTSTAMP:20260419T214920
CREATED:20250523T160007Z
LAST-MODIFIED:20250522T180607Z
UID:10000487-1756317600-1756321200@jampd.com
SUMMARY:Beginning Archery
DESCRIPTION:Enjoy the great outdoors while learning a new skill! Participants ages 9 to adult are invited to join us on the range to explore this unique recreational sport and appreciate the role of archery in wildlife management. Certified archery instructors will lead participants in proper shooting technique and highlight important safety considerations. All materials will be provided by the park district; participants must use the equipment provided. Wear closed-toe shoes and secure long hair. Please register for only one evening session. Register by August 24.
URL:https://jampd.com/event/beginning-archery-14/
END:VEVENT
BEGIN:VEVENT
DTSTART;TZID=America/New_York:20250827T190000
DTEND;TZID=America/New_York:20250827T200000
DTSTAMP:20260419T214920
CREATED:20250523T160021Z
LAST-MODIFIED:20250522T180729Z
UID:10000488-1756321200-1756324800@jampd.com
SUMMARY:Beginning Archery
DESCRIPTION:Enjoy the great outdoors while learning a new skill! Participants ages 9 to adult are invited to join us on the range to explore this unique recreational sport and appreciate the role of archery in wildlife management. Certified archery instructors will lead participants in proper shooting technique and highlight important safety considerations. All materials will be provided by the park district; participants must use the equipment provided. Wear closed-toe shoes and secure long hair. Please register for only one evening session. Register by August 24.
URL:https://jampd.com/event/beginning-archery-15/
LOCATION:Allen County Farm Park\, 1582 Slabtown Road\, Lima\, Ohio\, 45801
END:VEVENT
BEGIN:VEVENT
DTSTART;TZID=America/New_York:20250829T210000
DTEND;TZID=America/New_York:20250829T230000
DTSTAMP:20260419T214920
CREATED:20250523T160004Z
LAST-MODIFIED:20250522T181022Z
UID:10000490-1756501200-1756508400@jampd.com
SUMMARY:Sky Fishing
DESCRIPTION:Every last Friday from May to September\, a naturalist will set up equipment to go ‘sky fishing’- a way that scientists sample the insects flying through our night sky. From luna moths to fireflies\, each month should bring a suite of curious new insects as different species emerge at different times of year. Help us identify and record the insects we find\, or simply enjoy the show! Event starts at sunset each month. Register by Aug. 26. \n 
URL:https://jampd.com/event/sky-fishing-4/
LOCATION:Kendrick Woods\, 971 N Defiance Trl\, Spencerville\, 45887\, United States
END:VEVENT
BEGIN:VEVENT
DTSTART;TZID=America/New_York:20250830T190000
DTEND;TZID=America/New_York:20250830T210000
DTSTAMP:20260419T214920
CREATED:20250508T185700Z
LAST-MODIFIED:20250508T185700Z
UID:10000450-1756580400-1756587600@jampd.com
SUMMARY:Dr. Insecta
DESCRIPTION:Bug Genius!
URL:https://jampd.com/event/dr-insecta-4/
LOCATION:Ottawa Metro Park – Amphitheater\, 2632 Ada Road\, Lima\, Ohio\, 45801
END:VEVENT
BEGIN:VEVENT
DTSTART;TZID=America/New_York:20250903T170000
DTEND;TZID=America/New_York:20250903T180000
DTSTAMP:20260419T214920
CREATED:20250819T194753Z
LAST-MODIFIED:20250819T194753Z
UID:10000538-1756918800-1756922400@jampd.com
SUMMARY:Tales on the Trail\, Family Reading Program
DESCRIPTION:Step into the changing seasons on our Storybook Trail featuring Summer Green to Autumn Gold! Join a naturalist and stroll through the trail to enjoy the beauty of nature and the vibrant illustrations that show how summer transforms into fall. It’s a perfect outdoor adventure for families to read\, explore\, and celebrate the magic of the seasons together!  Meet at the West Shelter house in Hermon Woodlands.  Register by September 2nd.
URL:https://jampd.com/event/tales-on-the-trail-family-reading-program/
LOCATION:Hermon Woodlands Metro Park\, 485 N. Wapak Road\, Lima\, OH\, 45807
END:VEVENT
BEGIN:VEVENT
DTSTART;TZID=America/New_York:20250904T100000
DTEND;TZID=America/New_York:20250904T110000
DTSTAMP:20260419T214920
CREATED:20250813T120014Z
LAST-MODIFIED:20250812T034741Z
UID:10000493-1756980000-1756983600@jampd.com
SUMMARY:Nature Pals: Remarkable Raccoons
DESCRIPTION:Children ages 3-5 along with an adult companion are invited to come learn all about the mischievous mammals known as raccoons! Registration required by Sept. 3. \n 
URL:https://jampd.com/event/nature-pals-remarkable-raccoons-6/
LOCATION:McElroy Environmental Education Center\, 2355 Ada Rd\, Lima\, OH\, 45801
END:VEVENT
BEGIN:VEVENT
DTSTART;TZID=America/New_York:20250904T130000
DTEND;TZID=America/New_York:20250904T140000
DTSTAMP:20260419T214920
CREATED:20250813T120049Z
LAST-MODIFIED:20250812T034947Z
UID:10000494-1756990800-1756994400@jampd.com
SUMMARY:Nature Pals: Remarkable Raccoons
DESCRIPTION:Children ages 3-5 along with an adult companion are invited to come learn all about the mischievous mammals known as raccoons! Registration required by Sept. 3. \n 
URL:https://jampd.com/event/nature-pals-remarkable-raccoons-7/
LOCATION:McElroy Environmental Education Center\, 2355 Ada Rd\, Lima\, OH\, 45801
END:VEVENT
BEGIN:VEVENT
DTSTART;TZID=America/New_York:20250904T173000
DTEND;TZID=America/New_York:20250904T183000
DTSTAMP:20260419T214920
CREATED:20250813T120017Z
LAST-MODIFIED:20250812T035531Z
UID:10000496-1757007000-1757010600@jampd.com
SUMMARY:Health Through Nature
DESCRIPTION:Although modern technologies are making our life easier\, more and more people are experiencing a sense and unease and anxiety. New scientific research concludes our disconnect from nature may be the cause. Scientists are finding that a connection to the natural world is crucial for our health and well-being. Join a Certified Natural Mindfulness Guide on Thursday evenings of each month this fall to reap the health benefits of being in nature. Register by Sept. 3. \n 
URL:https://jampd.com/event/health-through-nature-20/
LOCATION:McLean Teddy Bear Park\, 2004 N. Dixie Hwy.\, Lima\, OH\, 45801\, United States
END:VEVENT
BEGIN:VEVENT
DTSTART;TZID=America/New_York:20250905T100000
DTEND;TZID=America/New_York:20250905T110000
DTSTAMP:20260419T214920
CREATED:20250813T120038Z
LAST-MODIFIED:20250813T023846Z
UID:10000532-1757066400-1757070000@jampd.com
SUMMARY:Nature Pals: Remarkable Raccoons
DESCRIPTION:Children ages 3-5 along with an adult companion are invited to come learn all about the mischievous mammals known as raccoons! Registration required by Sept. 3.
URL:https://jampd.com/event/nature-pals-remarkable-raccoons-10/
LOCATION:McElroy Environmental Education Center\, 2355 Ada Rd\, Lima\, OH\, 45801
END:VEVENT
BEGIN:VEVENT
DTSTART;TZID=America/New_York:20250905T130000
DTEND;TZID=America/New_York:20250905T140000
DTSTAMP:20260419T214920
CREATED:20250813T120053Z
LAST-MODIFIED:20250813T024000Z
UID:10000533-1757077200-1757080800@jampd.com
SUMMARY:Nature Pals: Remarkable Raccoons
DESCRIPTION:Children ages 3-5 along with an adult companion are invited to come learn all about the mischievous mammals known as raccoons! Registration required by Sept. 3.
URL:https://jampd.com/event/nature-pals-remarkable-raccoons-11/
LOCATION:McElroy Environmental Education Center\, 2355 Ada Rd\, Lima\, OH\, 45801
END:VEVENT
BEGIN:VEVENT
DTSTART;TZID=America/New_York:20250906T090000
DTEND;TZID=America/New_York:20250906T103000
DTSTAMP:20260419T214920
CREATED:20250813T120017Z
LAST-MODIFIED:20250813T014108Z
UID:10000521-1757149200-1757154600@jampd.com
SUMMARY:Walking Thru Autumn
DESCRIPTION:There is nothing quite like a brisk walk and a breath of fresh air on a crisp autumn morning! Please join us for our 19th annual Walking Thru Autumn hiking series. Each week 60-90 participants gather for a guided hike to take in the beauty of fall and explore some of the 30+ miles of Park District trails. Upon completing 6 out of the 8 offered hikes\, participants will receive a 2025 Metro Parks hiking stick medallion. Hand-made wood hiking sticks are available for $10. All hikes start at 9 am\, last approximately 1.5 hours and will be on easy to moderate terrain. \n  \nRegister online at www.jampd.com. September 6th marks the first hike; however\, participants may register as late as September 19th for the final 6 hikes. Registrations and walk-ins after this date are encouraged but will not be eligible for the hiking stick medallion. \nCome enjoy the beauty of fall in your Parks! \nWalking Thru Autumn 2025 \nSept. 6 Haver Ridge \nSept. 13 Motter Metro Park \nSept. 20 McLean Teddy Bear \nSept. 27 Cottonwood Trail \nOct. 4 Heritage Park \nOct. 11 Allen County Farm \nOct. 18 Kendrick Woods \nOct. 25 Hermon Woodlands \n  \n 
URL:https://jampd.com/event/walking-thru-autumn-41/
LOCATION:Haver Ridge Metro Park\, 8335 Bellefontaine Rd\, Harrod\, Ohio\, 45850
END:VEVENT
BEGIN:VEVENT
DTSTART;TZID=America/New_York:20250908T070000
DTEND;TZID=America/New_York:20250908T203000
DTSTAMP:20260419T214920
CREATED:20250813T120048Z
LAST-MODIFIED:20250812T035723Z
UID:10000497-1757314800-1757363400@jampd.com
SUMMARY:Woodcarving 101
DESCRIPTION:Join us as the Lima Area Woodcarvers present a basic overview of wood carving along with instruction. Experienced woodcarvers will cover topics such as carving styles\, projects\, tools\, wood\, sharpening and more. This program is for any skill level\, including beginners! Registration is limited to ages 13 and up; participants under 18 must be accompanied by an adult. Register by Sept. 7. \n 
URL:https://jampd.com/event/woodcarving-101/
LOCATION:McElroy Environmental Education Center\, 2355 Ada Rd\, Lima\, OH\, 45801
END:VEVENT
BEGIN:VEVENT
DTSTART;TZID=America/New_York:20250910T093000
DTEND;TZID=America/New_York:20250910T113000
DTSTAMP:20260419T214920
CREATED:20250818T135202Z
LAST-MODIFIED:20250818T135202Z
UID:10000535-1757496600-1757503800@jampd.com
SUMMARY:Basic Needs Homeschool Field Trip
DESCRIPTION:Join us for our interdisciplinary nature-based program focused on observing\, exploring\, describing\, and comparing the basic needs of animals living in Allen County! \nStudents will learn from Naturalists and curriculum-based activities that living things must fulfill basic needs in order to survive\, discovering that a habitat is how those needs are met. \nThis program targets the learning needs of children ages 5 to 8.  Please register everyone who will be attending and bring along the family!  Register by September 5th.
URL:https://jampd.com/event/basic-needs-homeschool-field-trip/
LOCATION:Hermon Woodlands Metro Park\, 485 N. Wapak Road\, Lima\, OH\, 45807
END:VEVENT
END:VCALENDAR