BEGIN:VCALENDAR
VERSION:2.0
PRODID:-//Johnny Appleseed Metropolitan Park District - ECPv6.15.18//NONSGML v1.0//EN
CALSCALE:GREGORIAN
METHOD:PUBLISH
X-WR-CALNAME:Johnny Appleseed Metropolitan Park District
X-ORIGINAL-URL:https://jampd.com
X-WR-CALDESC:Events for Johnny Appleseed Metropolitan Park District
REFRESH-INTERVAL;VALUE=DURATION:PT1H
X-Robots-Tag:noindex
X-PUBLISHED-TTL:PT1H
BEGIN:VTIMEZONE
TZID:America/New_York
BEGIN:DAYLIGHT
TZOFFSETFROM:-0500
TZOFFSETTO:-0400
TZNAME:EDT
DTSTART:20250309T070000
END:DAYLIGHT
BEGIN:STANDARD
TZOFFSETFROM:-0400
TZOFFSETTO:-0500
TZNAME:EST
DTSTART:20251102T060000
END:STANDARD
BEGIN:DAYLIGHT
TZOFFSETFROM:-0500
TZOFFSETTO:-0400
TZNAME:EDT
DTSTART:20260308T070000
END:DAYLIGHT
BEGIN:STANDARD
TZOFFSETFROM:-0400
TZOFFSETTO:-0500
TZNAME:EST
DTSTART:20261101T060000
END:STANDARD
BEGIN:DAYLIGHT
TZOFFSETFROM:-0500
TZOFFSETTO:-0400
TZNAME:EDT
DTSTART:20270314T070000
END:DAYLIGHT
BEGIN:STANDARD
TZOFFSETFROM:-0400
TZOFFSETTO:-0500
TZNAME:EST
DTSTART:20271107T060000
END:STANDARD
END:VTIMEZONE
BEGIN:VEVENT
DTSTART;TZID=America/New_York:20260107T090000
DTEND;TZID=America/New_York:20260107T100000
DTSTAMP:20260425T222429
CREATED:20251121T220013Z
LAST-MODIFIED:20251117T144952Z
UID:9094-1767776400-1767780000@jampd.com
SUMMARY:Weekly Walks
DESCRIPTION:Enjoy the quiet winter mornings while we get in our steps! Sometimes it is hard to find a reason to go outside in the winter months\, but together we can get rid of that cabin fever! Join a Naturalist as we walk the trails of Heritage Park. Together we can achieve our fitness goals while also enjoying nature. All ages are welcome\, and we can set our own pace. Dress for the weather—rain\, snow\, or shine! Meet at the Veterans Shelter. Register by January 6. \n 
URL:https://jampd.com/event/weekly-walks-4/
LOCATION:Heritage Park – West End\, 2092 Reed Rd\, Lima\, Ohio\, 45806
END:VEVENT
END:VCALENDAR