BEGIN:VCALENDAR
VERSION:2.0
PRODID:-//Johnny Appleseed Metropolitan Park District - ECPv6.15.18//NONSGML v1.0//EN
CALSCALE:GREGORIAN
METHOD:PUBLISH
X-WR-CALNAME:Johnny Appleseed Metropolitan Park District
X-ORIGINAL-URL:https://jampd.com
X-WR-CALDESC:Events for Johnny Appleseed Metropolitan Park District
REFRESH-INTERVAL;VALUE=DURATION:PT1H
X-Robots-Tag:noindex
X-PUBLISHED-TTL:PT1H
BEGIN:VTIMEZONE
TZID:America/New_York
BEGIN:DAYLIGHT
TZOFFSETFROM:-0500
TZOFFSETTO:-0400
TZNAME:EDT
DTSTART:20250309T070000
END:DAYLIGHT
BEGIN:STANDARD
TZOFFSETFROM:-0400
TZOFFSETTO:-0500
TZNAME:EST
DTSTART:20251102T060000
END:STANDARD
BEGIN:DAYLIGHT
TZOFFSETFROM:-0500
TZOFFSETTO:-0400
TZNAME:EDT
DTSTART:20260308T070000
END:DAYLIGHT
BEGIN:STANDARD
TZOFFSETFROM:-0400
TZOFFSETTO:-0500
TZNAME:EST
DTSTART:20261101T060000
END:STANDARD
BEGIN:DAYLIGHT
TZOFFSETFROM:-0500
TZOFFSETTO:-0400
TZNAME:EDT
DTSTART:20270314T070000
END:DAYLIGHT
BEGIN:STANDARD
TZOFFSETFROM:-0400
TZOFFSETTO:-0500
TZNAME:EST
DTSTART:20271107T060000
END:STANDARD
END:VTIMEZONE
BEGIN:VEVENT
DTSTART;TZID=America/New_York:20260513T130000
DTEND;TZID=America/New_York:20260513T143000
DTSTAMP:20260421T062318
CREATED:20260223T192338Z
LAST-MODIFIED:20260223T192338Z
UID:9414-1778677200-1778682600@jampd.com
SUMMARY:Homeschool Field Trip: Givin' A Livin'
DESCRIPTION:Join us for our interdisciplinary nature-based program focused on the characteristics of living things!  Children ages 4 to 6 and their families will learn from Nature Education staff and curriculum-based activities that people\, plants\, and animals are all living things and share important features.  Meet at the Hornung Shelter.  Registration is required. Please register all family members who will be attending the program.  Register by May 6. \n 
URL:https://jampd.com/event/homeschool-field-trip-givin-a-livin-2/
LOCATION:McLean Teddy Bear Park\, 2004 N. Dixie Hwy.\, Lima\, OH\, 45801\, United States
END:VEVENT
END:VCALENDAR